Workbook

Sheet Sites
A1: NATIONAL ON-SITE MONTHLY PPE REQUIREMENT | D1: GLOVES | J1: MASKS | P1: CLOTHING | AD1: EYE & FACE | AI1: FEET | AL1: HEAD | AR1: EAR | AT1: OTHER
A2: Region | B2: Site | C2: Staff | D2: Gripper "Crayfish" Gloves | E2: Cut resistant Level 5 Gloves | F2: Welders Gloves | G2: PVC Gloves | H2: PVC elbow length glove | I2: Surgical Gloves | J2: Surgical Masks | K2: Dust Mask FFP3 | L2: Dust Mask FFP2 | M2: 3M Half Mask respirator | N2: 3M Half Mask respirator Cartages ABEK 1 | O2: 3M Half Mask retainer | P2: Reflective Vest - Orange with branding | Q2: Rain Suits Small to 3XL | R2: Winter Jackets Small to 3XL | S2: Serenex Dust Suits Small to 3 XL (White Suits) | T2: Overalls Trouser Flame and Acid retardant (Blue) | U2: Overalls Jacket Flame and Acid retardant (Blue) | V2: Overalls Trouser Flame and Acid retardant (Green) | W2: Overalls Jacket Flame and Acid retardant (Green) | X2: Overalls Trousers Acid Proof | Y2: Overall Jackets Acid Proof | Z2: Overalls Trousers Non Acid | AA2: Overall Jackets Non Acid | AB2: T- Shirts | AC2: Bee suits | AD2: Welding Goggles | AE2: Safety Goggles with elastic band | AF2: Safety Spoggles - Safety Eyewear | AG2: Standard sporty spectacles eyewear | AH2: Face Shield | AI2: Gum boots | AJ2: Safety Boots | AK2: Spats | AL2: Caps | AM2: Cricket Hats | AN2: Bump Caps | AO2: Hard hat orange brim | AP2: Hard Hats | AQ2: Chin straps | AR2: Ear Plugs - Corded | AS2: Ear Mufs | AT2: PVC Aprons - Heavy duty | AU2: Leather Apron | AV2: Kidney Belts
A3: GAU | B3: Aquazania | C3: 1 | D3: 4 | K3: 4 | P3: =(1/12)*C3 -> 0.083333333 | R3: =(1/24)*C3 -> 0.041666667 | Z3: =(3/12)*C3 -> 0.25 | AA3: =(3/12)*C3 -> 0.25 | AB3: =(3/12)*C3 -> 0.25 | AG3: =(4/12)*C3 -> 0.33333333 | AJ3: =(1.5/12)*C3 -> 0.125 | AL3: =(1/12)*C3 -> 0.083333333 | AP3: =(1/12)*C3 -> 0.083333333
A4: GAU | B4: Idemia | C4: 1 | D4: 4 | K4: 6 | P4: =(1/12)*C4 -> 0.083333333 | R4: =(1/24)*C4 -> 0.041666667 | Z4: =(3/12)*C4 -> 0.25 | AA4: =(3/12)*C4 -> 0.25 | AB4: =(3/12)*C4 -> 0.25 | AG4: =(4/12)*C4 -> 0.33333333 | AJ4: =(1.5/12)*C4 -> 0.125 | AL4: =(1/12)*C4 -> 0.083333333 | AP4: =(1/12)*C4 -> 0.083333333
A5: GAU | B5: Givaudan Linbro Park | C5: 1 | D5: 4 | K5: 6 | P5: =(1/12)*C5 -> 0.083333333 | R5: =(1/24)*C5 -> 0.041666667 | Z5: =(3/12)*C5 -> 0.25 | AA5: =(3/12)*C5 -> 0.25 | AB5: =(3/12)*C5 -> 0.25 | AG5: =(4/12)*C5 -> 0.33333333 | AJ5: =(1.5/12)*C5 -> 0.125 | AL5: =(1/12)*C5 -> 0.083333333 | AP5: =(1/12)*C5 -> 0.083333333
A6: GAU | B6: ALS Chemex | C6: 1 | D6: 4 | K6: 12 | P6: =(1/12)*C6 -> 0.083333333 | R6: =(1/24)*C6 -> 0.041666667 | Z6: =(3/12)*C6 -> 0.25 | AA6: =(3/12)*C6 -> 0.25 | AB6: =(3/12)*C6 -> 0.25 | AG6: =(4/12)*C6 -> 0.33333333 | AJ6: =(1.5/12)*C6 -> 0.125 | AL6: =(1/12)*C6 -> 0.083333333 | AP6: =(1/12)*C6 -> 0.083333333
A7: GAU | B7: Busamed | C7: 1 | D7: 4 | K7: 6 | P7: =(1/12)*C7 -> 0.083333333 | R7: =(1/24)*C7 -> 0.041666667 | Z7: =(3/12)*C7 -> 0.25 | AA7: =(3/12)*C7 -> 0.25 | AB7: =(3/12)*C7 -> 0.25 | AG7: =(4/12)*C7 -> 0.33333333 | AJ7: =(1.5/12)*C7 -> 0.125 | AL7: =(1/12)*C7 -> 0.083333333 | AP7: =(1/12)*C7 -> 0.083333333
A8: GAU | B8: Valemount | C8: 1 | D8: 4 | K8: 6 | P8: =(1/12)*C8 -> 0.083333333 | R8: =(1/24)*C8 -> 0.041666667 | Z8: =(3/12)*C8 -> 0.25 | AA8: =(3/12)*C8 -> 0.25 | AB8: =(3/12)*C8 -> 0.25 | AG8: =(4/12)*C8 -> 0.33333333 | AJ8: =(1.5/12)*C8 -> 0.125 | AL8: =(1/12)*C8 -> 0.083333333 | AP8: =(1/12)*C8 -> 0.083333333
A9: GAU | B9: Freedomwon | C9: 1 | D9: 4 | K9: 6 | P9: =(1/12)*C9 -> 0.083333333 | R9: =(1/24)*C9 -> 0.041666667 | Z9: =(3/12)*C9 -> 0.25 | AA9: =(3/12)*C9 -> 0.25 | AB9: =(3/12)*C9 -> 0.25 | AG9: =(4/12)*C9 -> 0.33333333 | AJ9: =(1.5/12)*C9 -> 0.125 | AL9: =(1/12)*C9 -> 0.083333333 | AP9: =(1/12)*C9 -> 0.083333333
A10: GAU | B10: The Country Pie | C10: 1 | P10: =(1/12)*C10 -> 0.083333333 | R10: =(1/24)*C10 -> 0.041666667 | Z10: =(3/12)*C10 -> 0.25 | AA10: =(3/12)*C10 -> 0.25 | AB10: =(3/12)*C10 -> 0.25 | AG10: =(4/12)*C10 -> 0.33333333 | AJ10: =(1.5/12)*C10 -> 0.125 | AL10: =(1/12)*C10 -> 0.083333333 | AP10: =(1/12)*C10 -> 0.083333333
A11: GAU | B11: Donaldson Filtration | C11: 1 | D11: 4 | K11: 6 | P11: =(1/12)*C11 -> 0.083333333 | R11: =(1/24)*C11 -> 0.041666667 | Z11: =(3/12)*C11 -> 0.25 | AA11: =(3/12)*C11 -> 0.25 | AB11: =(3/12)*C11 -> 0.25 | AG11: =(4/12)*C11 -> 0.33333333 | AJ11: =(1.5/12)*C11 -> 0.125 | AL11: =(1/12)*C11 -> 0.083333333 | AP11: =(1/12)*C11 -> 0.083333333
A12: GAU | B12: Chipkins | C12: 2 | D12: 8 | K12: 20 | P12: =(1/12)*C12 -> 0.16666667 | R12: =(1/24)*C12 -> 0.083333333 | S12: 16 | Z12: =(3/12)*C12 -> 0.5 | AA12: =(3/12)*C12 -> 0.5 | AB12: =(3/12)*C12 -> 0.5 | AC12: =(2/12) -> 0.16666667 | AG12: =(4/12)*C12 -> 0.66666667 | AJ12: =(1.5/12)*C12 -> 0.25 | AL12: =(1/12)*C12 -> 0.16666667 | AP12: =(1/12)*C12 -> 0.16666667
A13: GAU | B13: SAAB | C13: 1 | D13: 4 | K13: 8 | P13: =(1/12)*C13 -> 0.083333333 | R13: =(1/24)*C13 -> 0.041666667 | Z13: =(3/12)*C13 -> 0.25 | AA13: =(3/12)*C13 -> 0.25 | AB13: =(3/12)*C13 -> 0.25 | AG13: =(4/12)*C13 -> 0.33333333 | AJ13: =(1.5/12)*C13 -> 0.125 | AL13: =(1/12)*C13 -> 0.083333333 | AP13: =(1/12)*C13 -> 0.083333333
A14: GAU | B14: Premier Foods Lordsview | C14: 1 | D14: 4 | K14: 8 | P14: =(1/12)*C14 -> 0.083333333 | R14: =(1/24)*C14 -> 0.041666667 | Z14: =(3/12)*C14 -> 0.25 | AA14: =(3/12)*C14 -> 0.25 | AB14: =(3/12)*C14 -> 0.25 | AG14: =(4/12)*C14 -> 0.33333333 | AJ14: =(1.5/12)*C14 -> 0.125 | AL14: =(1/12)*C14 -> 0.083333333 | AP14: =(1/12)*C14 -> 0.083333333
A15: GAU | B15: Fresenius Kabi | C15: 1 | D15: 2 | K15: 4 | P15: =(1/12)*C15 -> 0.083333333 | R15: =(1/24)*C15 -> 0.041666667 | Z15: =(3/12)*C15 -> 0.25 | AA15: =(3/12)*C15 -> 0.25 | AB15: =(3/12)*C15 -> 0.25 | AG15: =(4/12)*C15 -> 0.33333333 | AJ15: =(1.5/12)*C15 -> 0.125 | AL15: =(1/12)*C15 -> 0.083333333 | AP15: =(1/12)*C15 -> 0.083333333
A16: GAU | B16: King Pie | C16: 1 | D16: 4 | K16: 8 | P16: =(1/12)*C16 -> 0.083333333 | R16: =(1/24)*C16 -> 0.041666667 | S16: 4 | Z16: =(3/12)*C16 -> 0.25 | AA16: =(3/12)*C16 -> 0.25 | AB16: =(3/12)*C16 -> 0.25 | AG16: =(4/12)*C16 -> 0.33333333 | AJ16: =(1.5/12)*C16 -> 0.125 | AL16: =(1/12)*C16 -> 0.083333333 | AP16: =(1/12)*C16 -> 0.083333333
A17: GAU | B17: MSD - CBRE | C17: 1 | D17: 6 | K17: 10 | P17: =(1/12)*C17 -> 0.083333333 | R17: =(1/24)*C17 -> 0.041666667 | Z17: =(3/12)*C17 -> 0.25 | AA17: =(3/12)*C17 -> 0.25 | AB17: =(3/12)*C17 -> 0.25 | AG17: =(4/12)*C17 -> 0.33333333 | AJ17: =(1.5/12)*C17 -> 0.125 | AL17: =(1/12)*C17 -> 0.083333333 | AP17: =(1/12)*C17 -> 0.083333333
A18: GAU | B18: CBRE - Isando | C18: 1 | D18: 4 | K18: 4 | P18: =(1/12)*C18 -> 0.083333333 | R18: =(1/24)*C18 -> 0.041666667 | Z18: =(3/12)*C18 -> 0.25 | AA18: =(3/12)*C18 -> 0.25 | AB18: =(3/12)*C18 -> 0.25 | AG18: =(4/12)*C18 -> 0.33333333 | AJ18: =(1.5/12)*C18 -> 0.125 | AL18: =(1/12)*C18 -> 0.083333333 | AP18: =(1/12)*C18 -> 0.083333333
A19: GAU | B19: Mustek | C19: 1 | D19: 4 | K19: 4 | P19: =(1/12)*C19 -> 0.083333333 | R19: =(1/24)*C19 -> 0.041666667 | Z19: =(3/12)*C19 -> 0.25 | AA19: =(3/12)*C19 -> 0.25 | AB19: =(3/12)*C19 -> 0.25 | AG19: =(4/12)*C19 -> 0.33333333 | AJ19: =(1.5/12)*C19 -> 0.125 | AL19: =(1/12)*C19 -> 0.083333333 | AP19: =(1/12)*C19 -> 0.083333333
A20: GAU | B20: Servest | C20: 1 | D20: 4 | K20: 6 | P20: =(1/12)*C20 -> 0.083333333 | R20: =(1/24)*C20 -> 0.041666667 | Z20: =(3/12)*C20 -> 0.25 | AA20: =(3/12)*C20 -> 0.25 | AB20: =(3/12)*C20 -> 0.25 | AG20: =(4/12)*C20 -> 0.33333333 | AJ20: =(1.5/12)*C20 -> 0.125 | AL20: =(1/12)*C20 -> 0.083333333 | AP20: =(1/12)*C20 -> 0.083333333
A21: GAU | B21: Avroy Shlain | C21: 1 | D21: 4 | K21: 6 | P21: =(1/12)*C21 -> 0.083333333 | R21: =(1/24)*C21 -> 0.041666667 | Z21: =(3/12)*C21 -> 0.25 | AA21: =(3/12)*C21 -> 0.25 | AB21: =(3/12)*C21 -> 0.25 | AG21: =(4/12)*C21 -> 0.33333333 | AJ21: =(1.5/12)*C21 -> 0.125 | AL21: =(1/12)*C21 -> 0.083333333 | AP21: =(1/12)*C21 -> 0.083333333
A22: GAU | B22: Roche | C22: 1 | D22: 4 | K22: 4 | P22: =(1/12)*C22 -> 0.083333333 | R22: =(1/24)*C22 -> 0.041666667 | Z22: =(3/12)*C22 -> 0.25 | AA22: =(3/12)*C22 -> 0.25 | AB22: =(3/12)*C22 -> 0.25 | AG22: =(4/12)*C22 -> 0.33333333 | AJ22: =(1.5/12)*C22 -> 0.125 | AL22: =(1/12)*C22 -> 0.083333333 | AP22: =(1/12)*C22 -> 0.083333333
A23: GAU | B23: BMW Midrand | C23: 3 | D23: 12 | K23: 20 | P23: =(1/12)*C23 -> 0.25 | R23: =(1/24)*C23 -> 0.125 | Z23: =(3/12)*C23 -> 0.75 | AA23: =(3/12)*C23 -> 0.75 | AB23: =(3/12)*C23 -> 0.75 | AG23: =(4/12)*C23 -> 1 | AJ23: =(1.5/12)*C23 -> 0.375 | AL23: =(1/12)*C23 -> 0.25 | AP23: =(1/12)*C23 -> 0.25
A24: GAU | B24: Pepsico Brits Bakery | C24: 1 | D24: 4 | K24: 4 | P24: =(1/12)*C24 -> 0.083333333 | Q24: =(1/12)*C24 -> 0.083333333 | R24: =(1/24)*C24 -> 0.041666667 | Z24: =(3/12)*C24 -> 0.25 | AA24: =(3/12)*C24 -> 0.25 | AB24: =(3/12)*C24 -> 0.25 | AG24: =(4/12)*C24 -> 0.33333333 | AJ24: =(1.5/12)*C24 -> 0.125 | AL24: =(1/12)*C24 -> 0.083333333 | AO24: =(1/12)*C24 -> 0.083333333 | AP24: =(1/12)*C24 -> 0.083333333
A25: GAU | B25: Afrox Brits | C25: 2 | D25: 8 | K25: 20 | P25: =(1/12)*C25 -> 0.16666667 | Q25: =(1/12)*C25 -> 0.16666667 | R25: =(1/24)*C25 -> 0.083333333 | T25: =(3/12)*C25 -> 0.5 | U25: =(3/12)*C25 -> 0.5 | AB25: =(3/12)*C25 -> 0.5 | AG25: =(4/12)*C25 -> 0.66666667 | AJ25: =(1.5/12)*C25 -> 0.25 | AL25: =(1/12)*C25 -> 0.16666667 | AP25: =(1/12)*C25 -> 0.16666667
A26: GAU | B26: Afrox (Pta West) | C26: 1 | D26: 0 | K26: 0 | P26: =(1/12)*C26 -> 0.083333333 | R26: =(1/24)*C26 -> 0.041666667 | T26: =(3/12)*C26 -> 0.25 | U26: =(3/12)*C26 -> 0.25 | AB26: =(3/12)*C26 -> 0.25 | AG26: =(4/12)*C26 -> 0.33333333 | AJ26: =(1.5/12)*C26 -> 0.125 | AL26: =(1/12)*C26 -> 0.083333333 | AP26: =(1/12)*C26 -> 0.083333333
A27: GAU | B27: Barloworld Kathu | C27: 3 | D27: 24 | G27: 3 | K27: 40 | P27: =(1/12)*C27 -> 0.25 | Q27: =(1/12)*C27 -> 0.25 | R27: =(1/24)*C27 -> 0.125 | T27: =(3/12)*C27 -> 0.75 | U27: =(3/12)*C27 -> 0.75 | AB27: =(3/12)*C27 -> 0.75 | AG27: =(4/12)*C27 -> 1 | AJ27: =(1.5/12)*C27 -> 0.375 | AL27: =(1/12)*C27 -> 0.25 | AP27: =(1/12)*C27 -> 0.25
A28: GAU | B28: Thai Summit Automotive | C28: 1 | D28: 6 | K28: 20 | P28: =(1/12)*C28 -> 0.083333333 | Q28: =(1/12)*C28 -> 0.083333333 | R28: =(1/24)*C28 -> 0.041666667 | S28: 4 | Z28: =(3/12)*C28 -> 0.25 | AA28: =(3/12)*C28 -> 0.25 | AB28: =(3/12)*C28 -> 0.25 | AG28: =(4/12)*C28 -> 0.33333333 | AJ28: =(1.5/12)*C28 -> 0.125 | AL28: =(1/12)*C28 -> 0.083333333 | AO28: =(1/12)*C28 -> 0.083333333 | AP28: =(1/12)*C28 -> 0.083333333 | AR28: 2
A29: GAU | B29: Albany Pretoria - Tiger Brands | C29: 2 | D29: 8 | K29: 8 | P29: =(1/12)*C29 -> 0.16666667 | Q29: =(1/12)*C29 -> 0.16666667 | R29: =(1/24)*C29 -> 0.083333333 | Z29: =(3/12)*C29 -> 0.5 | AA29: =(3/12)*C29 -> 0.5 | AB29: =(3/12)*C29 -> 0.5 | AG29: =(4/12)*C29 -> 0.66666667 | AJ29: =(1.5/12)*C29 -> 0.25 | AL29: =(1/12)*C29 -> 0.16666667 | AP29: =(1/12)*C29 -> 0.16666667
A30: GAU | B30: Automould | C30: 2 | D30: 12 | K30: 10 | P30: =(1/12)*C30 -> 0.16666667 | Q30: =(1/12)*C30 -> 0.16666667 | R30: =(1/24)*C30 -> 0.083333333 | Z30: =(3/12)*C30 -> 0.5 | AA30: =(3/12)*C30 -> 0.5 | AB30: =(3/12)*C30 -> 0.5 | AG30: =(4/12)*C30 -> 0.66666667 | AJ30: =(1.5/12)*C30 -> 0.25 | AL30: =(1/12)*C30 -> 0.16666667 | AP30: =(1/12)*C30 -> 0.16666667
A31: GAU | B31: AVI Willards | C31: 12 | D31: 72 | K31: 120 | P31: =(1/12)*C31 -> 1 | Q31: =(1/12)*C31 -> 1 | R31: =(1/24)*C31 -> 0.5 | Z31: =(3/12)*C31 -> 3 | AA31: =(3/12)*C31 -> 3 | AB31: =(3/12)*C31 -> 3 | AG31: =(4/12)*C31 -> 4 | AJ31: =(1.5/12)*C31 -> 1.5 | AL31: =(1/12)*C31 -> 1 | AN31: =(1/12)*C31 -> 1 | AP31: =(1/12)*C31 -> 1 | AR31: 288
A32: GAU | B32: Bimbo | C32: 1 | D32: 8 | K32: 10 | P32: =(1/12)*C32 -> 0.083333333 | R32: =(1/24)*C32 -> 0.041666667 | Z32: =(3/12)*C32 -> 0.25 | AA32: =(3/12)*C32 -> 0.25 | AB32: =(3/12)*C32 -> 0.25 | AG32: =(4/12)*C32 -> 0.33333333 | AJ32: =(1.5/12)*C32 -> 0.125 | AL32: =(1/12)*C32 -> 0.083333333 | AP32: =(1/12)*C32 -> 0.083333333
A33: GAU | B33: Premier Foods Watloo | C33: 2 | D33: 12 | K33: 10 | P33: =(1/12)*C33 -> 0.16666667 | Q33: =(1/12)*C33 -> 0.16666667 | R33: =(1/24)*C33 -> 0.083333333 | Z33: =(3/12)*C33 -> 0.5 | AA33: =(3/12)*C33 -> 0.5 | AB33: =(3/12)*C33 -> 0.5 | AG33: =(4/12)*C33 -> 0.66666667 | AJ33: =(1.5/12)*C33 -> 0.25 | AL33: =(1/12)*C33 -> 0.16666667 | AP33: =(1/12)*C33 -> 0.16666667
A34: GAU | B34: Sephako Lichtenburg | C34: 4 | D34: 48 | G34: 4 | K34: 80 | P34: =(1/12)*C34 -> 0.33333333 | Q34: =(1/12)*C34 -> 0.33333333 | R34: =(1/24)*C34 -> 0.16666667 | S34: 100 | Z34: =(3/12)*C34 -> 1 | AA34: =(3/12)*C34 -> 1 | AB34: =(3/12)*C34 -> 1 | AF34: =(4/12)*C34 -> 1.3333333 | AJ34: =(1.5/12)*C34 -> 0.5 | AL34: =(1/12)*C34 -> 0.33333333 | AP34: =(1/12)*C34 -> 0.33333333 | AR34: 24
A35: GAU | B35: Adient Foam Plant | C35: 5 | D35: 24 | K35: 40 | P35: =(1/12)*C35 -> 0.41666667 | Q35: =(1/12)*C35 -> 0.41666667 | R35: =(1/24)*C35 -> 0.20833333 | Z35: =(3/12)*C35 -> 1.25 | AA35: =(3/12)*C35 -> 1.25 | AB35: =(3/12)*C35 -> 1.25 | AG35: =(4/12)*C35 -> 1.6666667 | AJ35: =(1.5/12)*C35 -> 0.625 | AL35: =(1/12)*C35 -> 0.41666667 | AP35: =(1/12)*C35 -> 0.41666667
A36: GAU | B36: Praga | C36: 2 | D36: 12 | K36: 10 | P36: =(1/12)*C36 -> 0.16666667 | Q36: =(1/12)*C36 -> 0.16666667 | R36: =(1/24)*C36 -> 0.083333333 | Z36: =(3/12)*C36 -> 0.5 | AA36: =(3/12)*C36 -> 0.5 | AB36: =(3/12)*C36 -> 0.5 | AG36: =(4/12)*C36 -> 0.66666667 | AJ36: =(1.5/12)*C36 -> 0.25 | AL36: =(1/12)*C36 -> 0.16666667 | AP36: =(1/12)*C36 -> 0.16666667 | AR36: 6
A37: GAU | B37: SA Bank Notes | C37: 2 | D37: 12 | K37: 20 | P37: =(1/12)*C37 -> 0.16666667 | Q37: =(1/12)*C37 -> 0.16666667 | R37: =(1/24)*C37 -> 0.083333333 | Z37: =(3/12)*C37 -> 0.5 | AA37: =(3/12)*C37 -> 0.5 | AB37: =(3/12)*C37 -> 0.5 | AG37: =(4/12)*C37 -> 0.66666667 | AJ37: =(1.5/12)*C37 -> 0.25 | AL37: =(1/12)*C37 -> 0.16666667 | AP37: =(1/12)*C37 -> 0.16666667
A38: GAU | B38: ATD | C38: 5 | D38: 24 | K38: 40 | P38: =(1/12)*C38 -> 0.41666667 | Q38: =(1/12)*C38 -> 0.41666667 | R38: =(1/24)*C38 -> 0.20833333 | Z38: =(3/12)*C38 -> 1.25 | AA38: =(3/12)*C38 -> 1.25 | AB38: =(3/12)*C38 -> 1.25 | AG38: =(4/12)*C38 -> 1.6666667 | AJ38: =(1.5/12)*C38 -> 0.625 | AL38: =(1/12)*C38 -> 0.41666667 | AP38: =(1/12)*C38 -> 0.41666667 | AR38: 10
A39: GAU | B39: BMW VDC | C39: 4 | D39: 12 | E39: 12 | J39: 100 | P39: =(1/12)*C39 -> 0.33333333 | Q39: =(1/12)*C39 -> 0.33333333 | R39: =(1/24)*C39 -> 0.16666667 | Z39: =(3/12)*C39 -> 1 | AA39: =(3/12)*C39 -> 1 | AB39: =(3/12)*C39 -> 1 | AG39: =(4/12)*C39 -> 1.3333333 | AJ39: =(1.5/12)*C39 -> 0.5 | AL39: =(1/12)*C39 -> 0.33333333 | AN39: =(1/12)*C39 -> 0.33333333 | AP39: =(1/12)*C39 -> 0.33333333 | AR39: 8
A40: GAU | B40: DMS Powders | C40: 1 | D40: 2 | L40: 4 | P40: =(1/12)*C40 -> 0.083333333 | R40: =(1/24)*C40 -> 0.041666667 | Z40: =(3/12)*C40 -> 0.25 | AA40: =(3/12)*C40 -> 0.25 | AB40: =(3/12)*C40 -> 0.25 | AG40: =(4/12)*C40 -> 0.33333333 | AJ40: =(1.5/12)*C40 -> 0.125 | AL40: =(1/12)*C40 -> 0.083333333 | AP40: =(1/12)*C40 -> 0.083333333
A41: GAU | B41: AECI | C41: 1 | D41: 2 | L41: 4 | P41: =(1/12)*C41 -> 0.083333333 | R41: =(1/24)*C41 -> 0.041666667 | Z41: =(3/12)*C41 -> 0.25 | AA41: =(3/12)*C41 -> 0.25 | AB41: =(3/12)*C41 -> 0.25 | AG41: =(4/12)*C41 -> 0.33333333 | AJ41: =(1.5/12)*C41 -> 0.125 | AL41: =(1/12)*C41 -> 0.083333333 | AP41: =(1/12)*C41 -> 0.083333333
A42: GAU | B42: Scaw Vereeniging | C42: 1 | D42: 2 | L42: 4 | P42: =(1/12)*C42 -> 0.083333333 | R42: =(1/24)*C42 -> 0.041666667 | Z42: =(3/12)*C42 -> 0.25 | AA42: =(3/12)*C42 -> 0.25 | AB42: =(3/12)*C42 -> 0.25 | AG42: =(4/12)*C42 -> 0.33333333 | AJ42: =(1.5/12)*C42 -> 0.125 | AL42: =(1/12)*C42 -> 0.083333333 | AP42: =(1/12)*C42 -> 0.083333333
A43: GAU | B43: Bevcan Nampk - DivFood | C43: 4 | D43: 4 | L43: 8 | P43: =(1/12)*C43 -> 0.33333333 | R43: =(1/24)*C43 -> 0.16666667 | Z43: =(3/12)*C43 -> 1 | AA43: =(3/12)*C43 -> 1 | AB43: =(3/12)*C43 -> 1 | AG43: =(4/12)*C43 -> 1.3333333 | AJ43: =(1.5/12)*C43 -> 0.5 | AL43: =(1/12)*C43 -> 0.33333333 | AP43: =(1/12)*C43 -> 0.33333333
A44: GAU | B44: Natref | C44: 4 | D44: 6 | L44: 6 | P44: =(1/12)*C44 -> 0.33333333 | R44: =(1/24)*C44 -> 0.16666667 | U44: =(3/12)*C44 -> 1 | V44: =(3/12)*C44 -> 1 | AB44: =(3/12)*C44 -> 1 | AG44: =(4/12)*C44 -> 1.3333333 | AJ44: =(1.5/12)*C44 -> 0.5 | AL44: =(1/12)*C44 -> 0.33333333 | AP44: =(1/12)*C44 -> 0.33333333
A45: GAU | B45: Tiger Brands Albany | C45: 1 | D45: 2 | L45: 3 | P45: =(1/12)*C45 -> 0.083333333 | R45: =(1/24)*C45 -> 0.041666667 | Z45: =(3/12)*C45 -> 0.25 | AA45: =(3/12)*C45 -> 0.25 | AB45: =(3/12)*C45 -> 0.25 | AG45: =(4/12)*C45 -> 0.33333333 | AJ45: =(1.5/12)*C45 -> 0.125 | AL45: =(1/12)*C45 -> 0.083333333 | AP45: =(1/12)*C45 -> 0.083333333
A46: GAU | B46: Premier Kroonstad | C46: 4 | D46: 4 | L46: 10 | P46: =(1/12)*C46 -> 0.33333333 | R46: =(1/24)*C46 -> 0.16666667 | Z46: =(3/12)*C46 -> 1 | AA46: =(3/12)*C46 -> 1 | AB46: =(3/12)*C46 -> 1 | AG46: =(4/12)*C46 -> 1.3333333 | AJ46: =(1.5/12)*C46 -> 0.5 | AL46: =(1/12)*C46 -> 0.33333333 | AP46: =(1/12)*C46 -> 0.33333333
A47: GAU | B47: Mittal | C47: 8 | D47: 12 | L47: 20 | P47: =(1/12)*C47 -> 0.66666667 | R47: =(1/24)*C47 -> 0.33333333 | Z47: =(3/12)*C47 -> 2 | AA47: =(3/12)*C47 -> 2 | AB47: =(3/12)*C47 -> 2 | AG47: =(4/12)*C47 -> 2.6666667 | AJ47: =(1.5/12)*C47 -> 1 | AL47: =(1/12)*C47 -> 0.66666667 | AP47: =(1/12)*C47 -> 0.66666667
A48: GAU | B48: Cable Tapes | C48: 1 | D48: 5 | K48: 10 | P48: =(1/12)*C48 -> 0.083333333 | R48: =(1/24)*C48 -> 0.041666667 | Z48: =(3/12)*C48 -> 0.25 | AA48: =(3/12)*C48 -> 0.25 | AB48: =(3/12)*C48 -> 0.25 | AG48: =(4/12)*C48 -> 0.33333333 | AJ48: =(1.5/12)*C48 -> 0.125 | AL48: =(1/12)*C48 -> 0.083333333 | AP48: =(1/12)*C48 -> 0.083333333
A49: GAU | B49: Deltec Energy Solutions | C49: 1 | D49: 6 | K49: 10 | P49: =(1/12)*C49 -> 0.083333333 | R49: =(1/24)*C49 -> 0.041666667 | Z49: =(3/12)*C49 -> 0.25 | AA49: =(3/12)*C49 -> 0.25 | AB49: =(3/12)*C49 -> 0.25 | AG49: =(4/12)*C49 -> 0.33333333 | AJ49: =(1.5/12)*C49 -> 0.125 | AL49: =(1/12)*C49 -> 0.083333333 | AP49: =(1/12)*C49 -> 0.083333333
A50: GAU | B50: Prominent Paints | C50: 4 | D50: 24 | G50: 4 | K50: 20 | P50: =(1/12)*C50 -> 0.33333333 | R50: =(1/24)*C50 -> 0.16666667 | S50: 4 | Z50: =(3/12)*C50 -> 1 | AA50: =(3/12)*C50 -> 1 | AB50: =(3/12)*C50 -> 1 | AG50: =(4/12)*C50 -> 1.3333333 | AJ50: =(1.5/12)*C50 -> 0.5 | AL50: =(1/12)*C50 -> 0.33333333 | AP50: =(1/12)*C50 -> 0.33333333
A51: GAU | B51: Air Liquide Alrode | C51: 1 | D51: 6 | K51: 20 | P51: =(1/12)*C51 -> 0.083333333 | R51: =(1/24)*C51 -> 0.041666667 | T51: =(3/12)*C51 -> 0.25 | U51: =(3/12)*C51 -> 0.25 | AB51: =(3/12)*C51 -> 0.25 | AG51: =(4/12)*C51 -> 0.33333333 | AJ51: =(1.5/12)*C51 -> 0.125 | AL51: =(1/12)*C51 -> 0.083333333 | AP51: =(1/12)*C51 -> 0.083333333
A52: GAU | B52: Friendly Cow | C52: 1 | D52: 6 | K52: 10 | P52: =(1/12)*C52 -> 0.083333333 | R52: =(1/24)*C52 -> 0.041666667 | Z52: =(3/12)*C52 -> 0.25 | AA52: =(3/12)*C52 -> 0.25 | AB52: =(3/12)*C52 -> 0.25 | AG52: =(4/12)*C52 -> 0.33333333 | AJ52: =(1.5/12)*C52 -> 0.125 | AL52: =(1/12)*C52 -> 0.083333333 | AP52: =(1/12)*C52 -> 0.083333333
A53: GAU | B53: Ferrero | C53: 1 | D53: 6 | K53: 10 | P53: =(1/12)*C53 -> 0.083333333 | R53: =(1/24)*C53 -> 0.041666667 | Z53: =(3/12)*C53 -> 0.25 | AA53: =(3/12)*C53 -> 0.25 | AB53: =(3/12)*C53 -> 0.25 | AG53: =(4/12)*C53 -> 0.33333333 | AJ53: =(1.5/12)*C53 -> 0.125 | AL53: =(1/12)*C53 -> 0.083333333 | AP53: =(1/12)*C53 -> 0.083333333
A54: GAU | B54: Heineken | C54: 15 | D54: 48 | E54: 12 | K54: 40 | P54: =(1/12)*C54 -> 1.25 | R54: =(1/24)*C54 -> 0.625 | Z54: =(3/12)*C54 -> 3.75 | AA54: =(3/12)*C54 -> 3.75 | AB54: =(3/12)*C54 -> 3.75 | AG54: =(4/12)*C54 -> 5 | AJ54: =(1.5/12)*C54 -> 1.875 | AL54: =(1/12)*C54 -> 1.25 | AP54: =(1/12)*C54 -> 1.25 | AR54: 30 | AV54: 4
A55: GAU | B55: Babcock | C55: 1 | D55: 6 | K55: 10 | P55: =(1/12)*C55 -> 0.083333333 | R55: =(1/24)*C55 -> 0.041666667 | Z55: =(3/12)*C55 -> 0.25 | AA55: =(3/12)*C55 -> 0.25 | AB55: =(3/12)*C55 -> 0.25 | AG55: =(4/12)*C55 -> 0.33333333 | AJ55: =(1.5/12)*C55 -> 0.125 | AL55: =(1/12)*C55 -> 0.083333333 | AP55: =(1/12)*C55 -> 0.083333333
A56: GAU | B56: Marcopolo | C56: 2 | D56: 12 | K56: 20 | P56: =(1/12)*C56 -> 0.16666667 | R56: =(1/24)*C56 -> 0.083333333 | S56: 4 | Z56: =(3/12)*C56 -> 0.5 | AA56: =(3/12)*C56 -> 0.5 | AB56: =(3/12)*C56 -> 0.5 | AG56: =(4/12)*C56 -> 0.66666667 | AJ56: =(1.5/12)*C56 -> 0.25 | AL56: =(1/12)*C56 -> 0.16666667 | AP56: =(1/12)*C56 -> 0.16666667
A57: GAU | B57: Haggie Scaw | C57: 1 | D57: 6 | K57: 10 | P57: =(1/12)*C57 -> 0.083333333 | R57: =(1/24)*C57 -> 0.041666667 | Z57: =(3/12)*C57 -> 0.25 | AA57: =(3/12)*C57 -> 0.25 | AB57: =(3/12)*C57 -> 0.25 | AG57: =(4/12)*C57 -> 0.33333333 | AJ57: =(1.5/12)*C57 -> 0.125 | AL57: =(1/12)*C57 -> 0.083333333 | AP57: =(1/12)*C57 -> 0.083333333
A58: GAU | B58: Isuzu | C58: 3 | D58: 24 | K58: 20 | P58: =(1/12)*C58 -> 0.25 | R58: =(1/24)*C58 -> 0.125 | Z58: =(3/12)*C58 -> 0.75 | AA58: =(3/12)*C58 -> 0.75 | AB58: =(3/12)*C58 -> 0.75 | AG58: =(4/12)*C58 -> 1 | AJ58: =(1.5/12)*C58 -> 0.375 | AL58: =(1/12)*C58 -> 0.25 | AP58: =(1/12)*C58 -> 0.25
A59: GAU | B59: GMSA | C59: 2 | D59: 12 | K59: 20 | P59: =(1/12)*C59 -> 0.16666667 | R59: =(1/24)*C59 -> 0.083333333 | Z59: =(3/12)*C59 -> 0.5 | AA59: =(3/12)*C59 -> 0.5 | AB59: =(3/12)*C59 -> 0.5 | AG59: =(4/12)*C59 -> 0.66666667 | AJ59: =(1.5/12)*C59 -> 0.25 | AL59: =(1/12)*C59 -> 0.16666667 | AP59: =(1/12)*C59 -> 0.16666667
A60: GAU | B60: Distell - Ecowash | C60: 1 | D60: 6 | E60: 1 | K60: 20 | P60: =(1/12)*C60 -> 0.083333333 | R60: =(1/24)*C60 -> 0.041666667 | Z60: =(3/12)*C60 -> 0.25 | AA60: =(3/12)*C60 -> 0.25 | AB60: =(3/12)*C60 -> 0.25 | AG60: =(4/12)*C60 -> 0.33333333 | AJ60: =(1.5/12)*C60 -> 0.125 | AL60: =(1/12)*C60 -> 0.083333333 | AP60: =(1/12)*C60 -> 0.083333333
A61: GAU | B61: Distell - Sekonder | C61: 8 | D61: 36 | E61: 8 | K61: 40 | P61: =(1/12)*C61 -> 0.66666667 | R61: =(1/24)*C61 -> 0.33333333 | Z61: =(3/12)*C61 -> 2 | AA61: =(3/12)*C61 -> 2 | AB61: =(3/12)*C61 -> 2 | AG61: =(4/12)*C61 -> 2.6666667 | AJ61: =(1.5/12)*C61 -> 1 | AL61: =(1/12)*C61 -> 0.66666667 | AP61: =(1/12)*C61 -> 0.66666667 | AR61: 16 | AV61: 4
A62: GAU | B62: Distell - Distribution | C62: 1 | D62: 6 | E62: 1 | K62: 20 | P62: =(1/12)*C62 -> 0.083333333 | R62: =(1/24)*C62 -> 0.041666667 | S62: 4 | Z62: =(3/12)*C62 -> 0.25 | AA62: =(3/12)*C62 -> 0.25 | AB62: =(3/12)*C62 -> 0.25 | AG62: =(4/12)*C62 -> 0.33333333 | AJ62: =(1.5/12)*C62 -> 0.125 | AL62: =(1/12)*C62 -> 0.083333333 | AP62: =(1/12)*C62 -> 0.083333333
A63: GAU | B63: Everest Pak | C63: 1 | D63: 6 | G63: 1 | K63: 20 | P63: =(1/12)*C63 -> 0.083333333 | R63: =(1/24)*C63 -> 0.041666667 | S63: 4 | Z63: =(3/12)*C63 -> 0.25 | AA63: =(3/12)*C63 -> 0.25 | AB63: =(3/12)*C63 -> 0.25 | AG63: =(4/12)*C63 -> 0.33333333 | AJ63: =(1.5/12)*C63 -> 0.125 | AL63: =(1/12)*C63 -> 0.083333333 | AP63: =(1/12)*C63 -> 0.083333333
A64: GAU | B64: Fuchs Electronics | C64: 1 | D64: 6 | K64: 10 | P64: =(1/12)*C64 -> 0.083333333 | R64: =(1/24)*C64 -> 0.041666667 | Z64: =(3/12)*C64 -> 0.25 | AA64: =(3/12)*C64 -> 0.25 | AB64: =(3/12)*C64 -> 0.25 | AG64: =(4/12)*C64 -> 0.33333333 | AJ64: =(1.5/12)*C64 -> 0.125 | AL64: =(1/12)*C64 -> 0.083333333 | AP64: =(1/12)*C64 -> 0.083333333
A65: GAU | B65: Wispeco | C65: 3 | D65: 24 | K65: 20 | P65: =(1/12)*C65 -> 0.25 | R65: =(1/24)*C65 -> 0.125 | Z65: =(3/12)*C65 -> 0.75 | AA65: =(3/12)*C65 -> 0.75 | AB65: =(3/12)*C65 -> 0.75 | AG65: =(4/12)*C65 -> 1 | AJ65: =(1.5/12)*C65 -> 0.375 | AL65: =(1/12)*C65 -> 0.25 | AP65: =(1/12)*C65 -> 0.25 | AR65: 6 | AV65: 2
A66: GAU | B66: Reflaline | C66: 1 | D66: 6 | P66: =(1/12)*C66 -> 0.083333333 | R66: =(1/24)*C66 -> 0.041666667 | S66: 5 | Z66: =(3/12)*C66 -> 0.25 | AA66: =(3/12)*C66 -> 0.25 | AB66: =(3/12)*C66 -> 0.25 | AG66: =(4/12)*C66 -> 0.33333333 | AJ66: =(1.5/12)*C66 -> 0.125 | AL66: =(1/12)*C66 -> 0.083333333 | AP66: =(1/12)*C66 -> 0.083333333 | AR66: 10
A67: GAU | B67: AVON DC | C67: 2 | D67: 12 | P67: =(1/12)*C67 -> 0.16666667 | R67: =(1/24)*C67 -> 0.083333333 | Z67: =(3/12)*C67 -> 0.5 | AA67: =(3/12)*C67 -> 0.5 | AB67: =(3/12)*C67 -> 0.5 | AG67: =(4/12)*C67 -> 0.66666667 | AJ67: =(1.5/12)*C67 -> 0.25 | AL67: =(1/12)*C67 -> 0.16666667 | AP67: =(1/12)*C67 -> 0.16666667
A68: GAU | B68: Aberdare Jhb | C68: 1 | D68: 6 | P68: =(1/12)*C68 -> 0.083333333 | R68: =(1/24)*C68 -> 0.041666667 | Z68: =(3/12)*C68 -> 0.25 | AA68: =(3/12)*C68 -> 0.25 | AB68: =(3/12)*C68 -> 0.25 | AG68: =(4/12)*C68 -> 0.33333333 | AJ68: =(1.5/12)*C68 -> 0.125 | AL68: =(1/12)*C68 -> 0.083333333 | AP68: =(1/12)*C68 -> 0.083333333 | AR68: 30
A69: GAU | B69: Sephako Delmas | C69: 3 | D69: 15 | P69: =(1/12)*C69 -> 0.25 | R69: =(1/24)*C69 -> 0.125 | T69: =(3/12)*C69 -> 0.75 | U69: =(3/12)*C69 -> 0.75 | AB69: =(3/12)*C69 -> 0.75 | AG69: =(4/12)*C69 -> 1 | AJ69: =(1.5/12)*C69 -> 0.375 | AL69: =(1/12)*C69 -> 0.25 | AP69: =(1/12)*C69 -> 0.25
A70: GAU | B70: Seton | C70: 5 | D70: 20 | P70: =(1/12)*C70 -> 0.41666667 | R70: =(1/24)*C70 -> 0.20833333 | Z70: =(3/12)*C70 -> 1.25 | AA70: =(3/12)*C70 -> 1.25 | AB70: =(3/12)*C70 -> 1.25 | AG70: =(4/12)*C70 -> 1.6666667 | AJ70: =(1.5/12)*C70 -> 0.625 | AL70: =(1/12)*C70 -> 0.41666667 | AP70: =(1/12)*C70 -> 0.41666667
A71: GAU | B71: Impala Platinum | C71: 3 | D71: 6 | P71: =(1/12)*C71 -> 0.25 | R71: =(1/24)*C71 -> 0.125 | Z71: =(3/12)*C71 -> 0.75 | AA71: =(3/12)*C71 -> 0.75 | AB71: =(3/12)*C71 -> 0.75 | AG71: =(4/12)*C71 -> 1 | AJ71: =(1.5/12)*C71 -> 0.375 | AL71: =(1/12)*C71 -> 0.25 | AP71: =(1/12)*C71 -> 0.25
A72: GAU | B72: Mpact Mill | C72: 10 | D72: 30 | P72: =(1/12)*C72 -> 0.83333333 | R72: =(1/24)*C72 -> 0.41666667 | T72: =(3/12)*C72 -> 2.5 | U72: =(3/12)*C72 -> 2.5 | AB72: =(3/12)*C72 -> 2.5 | AG72: =(4/12)*C72 -> 3.3333333 | AJ72: =(1.5/12)*C72 -> 1.25 | AL72: =(1/12)*C72 -> 0.83333333 | AP72: =(1/12)*C72 -> 0.83333333 | AR72: 60
A73: GAU | B73: Inhle Beverages | C73: 3 | D73: 15 | G73: 5 | P73: =(1/12)*C73 -> 0.25 | R73: =(1/24)*C73 -> 0.125 | Z73: =(3/12)*C73 -> 0.75 | AA73: =(3/12)*C73 -> 0.75 | AB73: =(3/12)*C73 -> 0.75 | AG73: =(4/12)*C73 -> 1 | AJ73: =(1.5/12)*C73 -> 0.375 | AL73: =(1/12)*C73 -> 0.25 | AP73: =(1/12)*C73 -> 0.25 | AR73: 15
A74: GAU | B74: AGL | C74: 1 | D74: 6 | P74: =(1/12)*C74 -> 0.083333333 | R74: =(1/24)*C74 -> 0.041666667 | Z74: =(3/12)*C74 -> 0.25 | AA74: =(3/12)*C74 -> 0.25 | AB74: =(3/12)*C74 -> 0.25 | AG74: =(4/12)*C74 -> 0.33333333 | AJ74: =(1.5/12)*C74 -> 0.125 | AL74: =(1/12)*C74 -> 0.083333333 | AP74: =(1/12)*C74 -> 0.083333333 | AR74: 10
A75: GAU | B75: Phillip Morris | C75: 1 | D75: 6 | P75: =(1/12)*C75 -> 0.083333333 | R75: =(1/24)*C75 -> 0.041666667 | Z75: =(3/12)*C75 -> 0.25 | AA75: =(3/12)*C75 -> 0.25 | AB75: =(3/12)*C75 -> 0.25 | AG75: =(4/12)*C75 -> 0.33333333 | AJ75: =(1.5/12)*C75 -> 0.125 | AL75: =(1/12)*C75 -> 0.083333333 | AP75: =(1/12)*C75 -> 0.083333333 | AR75: 10
A76: GAU | B76: Sodexo | C76: 3 | D76: 12 | P76: =(1/12)*C76 -> 0.25 | R76: =(1/24)*C76 -> 0.125 | Z76: =(3/12)*C76 -> 0.75 | AA76: =(3/12)*C76 -> 0.75 | AB76: =(3/12)*C76 -> 0.75 | AG76: =(4/12)*C76 -> 1 | AJ76: =(1.5/12)*C76 -> 0.375 | AL76: =(1/12)*C76 -> 0.25 | AP76: =(1/12)*C76 -> 0.25 | AR76: 30
A77: GAU | B77: Rheinmetal Denelmunition | C77: 1 | D77: 4 | P77: =(1/12)*C77 -> 0.083333333 | R77: =(1/24)*C77 -> 0.041666667 | Z77: =(3/12)*C77 -> 0.25 | AA77: =(3/12)*C77 -> 0.25 | AB77: =(3/12)*C77 -> 0.25 | AG77: =(4/12)*C77 -> 0.33333333 | AJ77: =(1.5/12)*C77 -> 0.125 | AL77: =(1/12)*C77 -> 0.083333333 | AP77: =(1/12)*C77 -> 0.083333333 | AR77: 10
A78: GAU | B78: Barloworld - BRC | C78: 3 | D78: 12 | P78: =(1/12)*C78 -> 0.25 | R78: =(1/24)*C78 -> 0.125 | Z78: =(3/12)*C78 -> 0.75 | AA78: =(3/12)*C78 -> 0.75 | AB78: =(3/12)*C78 -> 0.75 | AG78: =(4/12)*C78 -> 1 | AJ78: =(1.5/12)*C78 -> 0.375 | AL78: =(1/12)*C78 -> 0.25 | AP78: =(1/12)*C78 -> 0.25 | AR78: 30
A79: GAU | B79: Barloworld - Power | C79: 1 | D79: 3 | P79: =(1/12)*C79 -> 0.083333333 | R79: =(1/24)*C79 -> 0.041666667 | Z79: =(3/12)*C79 -> 0.25 | AA79: =(3/12)*C79 -> 0.25 | AB79: =(3/12)*C79 -> 0.25 | AG79: =(4/12)*C79 -> 0.33333333 | AJ79: =(1.5/12)*C79 -> 0.125 | AL79: =(1/12)*C79 -> 0.083333333 | AP79: =(1/12)*C79 -> 0.083333333 | AR79: 10
A80: GAU | B80: Brushware | C80: 1 | D80: 3 | P80: =(1/12)*C80 -> 0.083333333 | R80: =(1/24)*C80 -> 0.041666667 | Z80: =(3/12)*C80 -> 0.25 | AA80: =(3/12)*C80 -> 0.25 | AB80: =(3/12)*C80 -> 0.25 | AG80: =(4/12)*C80 -> 0.33333333 | AJ80: =(1.5/12)*C80 -> 0.125 | AL80: =(1/12)*C80 -> 0.083333333 | AP80: =(1/12)*C80 -> 0.083333333 | AR80: 10
A81: GAU | B81: Heineken Springs | C81: 15 | D81: 30 | G81: 15 | P81: =(1/12)*C81 -> 1.25 | R81: =(1/24)*C81 -> 0.625 | Z81: =(3/12)*C81 -> 3.75 | AA81: =(3/12)*C81 -> 3.75 | AB81: =(3/12)*C81 -> 3.75 | AG81: =(4/12)*C81 -> 5 | AJ81: =(1.5/12)*C81 -> 1.875 | AL81: =(1/12)*C81 -> 1.25 | AP81: =(1/12)*C81 -> 1.25 | AR81: 90
A82: GAU | B82: Premier Foods Potch | C82: 1 | D82: 2 | G82: 0 | I82: 0 | L82: 1 | M82: 0 | P82: =(1/12)*C82 -> 0.083333333 | Q82: =(1/12)*C82 -> 0.083333333 | R82: =(1/24)*C82 -> 0.041666667 | S82: 0 | Z82: =(3/12)*C82 -> 0.25 | AA82: =(3/12)*C82 -> 0.25 | AB82: =(3/12)*C82 -> 0.25 | AG82: =(4/12)*C82 -> 0.33333333 | AJ82: =(1.5/12)*C82 -> 0.125 | AL82: =(1/12)*C82 -> 0.083333333 | AP82: =(1/12)*C82 -> 0.083333333 | AT82: 0
A83: GAU | B83: Tiger Brands - King Foods | C83: 1 | D83: 2 | G83: 0 | I83: 0 | L83: 1 | M83: 0 | P83: =(1/12)*C83 -> 0.083333333 | Q83: =(1/12)*C83 -> 0.083333333 | R83: =(1/24)*C83 -> 0.041666667 | S83: 0 | Z83: =(3/12)*C83 -> 0.25 | AA83: =(3/12)*C83 -> 0.25 | AB83: =(3/12)*C83 -> 0.25 | AG83: =(4/12)*C83 -> 0.33333333 | AJ83: =(1.5/12)*C83 -> 0.125 | AL83: =(1/12)*C83 -> 0.083333333 | AP83: =(1/12)*C83 -> 0.083333333 | AT83: 0
A84: GAU | B84: Albany Randfontein -Tiger B | C84: 1 | D84: 4 | G84: 0 | I84: 0 | L84: 1 | M84: 0 | P84: =(1/12)*C84 -> 0.083333333 | Q84: =(1/12)*C84 -> 0.083333333 | R84: =(1/24)*C84 -> 0.041666667 | S84: 0 | Z84: =(3/12)*C84 -> 0.25 | AA84: =(3/12)*C84 -> 0.25 | AB84: =(3/12)*C84 -> 0.25 | AG84: =(4/12)*C84 -> 0.33333333 | AJ84: =(1.5/12)*C84 -> 0.125 | AL84: =(1/12)*C84 -> 0.083333333 | AP84: =(1/12)*C84 -> 0.083333333 | AT84: 0
A85: GAU | B85: Milling Randfontein - Tiger B | C85: 1 | D85: 4 | G85: 0 | I85: 0 | L85: 1 | M85: 0 | P85: =(1/12)*C85 -> 0.083333333 | Q85: =(1/12)*C85 -> 0.083333333 | R85: =(1/24)*C85 -> 0.041666667 | S85: 0 | Z85: =(3/12)*C85 -> 0.25 | AA85: =(3/12)*C85 -> 0.25 | AB85: =(3/12)*C85 -> 0.25 | AG85: =(4/12)*C85 -> 0.33333333 | AJ85: =(1.5/12)*C85 -> 0.125 | AL85: =(1/12)*C85 -> 0.083333333 | AP85: =(1/12)*C85 -> 0.083333333 | AT85: 0
A86: GAU | B86: Pepsico Krugersdorp Mill | C86: 1 | D86: 2 | G86: 0 | I86: 0 | L86: 1 | M86: 0 | P86: =(1/12)*C86 -> 0.083333333 | Q86: =(1/12)*C86 -> 0.083333333 | R86: =(1/24)*C86 -> 0.041666667 | S86: 0 | Z86: =(3/12)*C86 -> 0.25 | AA86: =(3/12)*C86 -> 0.25 | AB86: =(3/12)*C86 -> 0.25 | AG86: =(4/12)*C86 -> 0.33333333 | AJ86: =(1.5/12)*C86 -> 0.125 | AL86: =(1/12)*C86 -> 0.083333333 | AP86: =(1/12)*C86 -> 0.083333333 | AT86: 0
A87: GAU | B87: Sunspray Foods | C87: 1 | D87: 4 | G87: 0 | I87: 0 | L87: 1 | M87: 1 | P87: =(1/12)*C87 -> 0.083333333 | Q87: =(1/12)*C87 -> 0.083333333 | R87: =(1/24)*C87 -> 0.041666667 | S87: 4 | Z87: =(3/12)*C87 -> 0.25 | AA87: =(3/12)*C87 -> 0.25 | AB87: =(3/12)*C87 -> 0.25 | AG87: =(4/12)*C87 -> 0.33333333 | AJ87: =(1.5/12)*C87 -> 0.125 | AL87: =(1/12)*C87 -> 0.083333333 | AP87: =(1/12)*C87 -> 0.083333333 | AT87: 0
A88: GAU | B88: Pioneer Foods- Industria | C88: 1 | D88: 2 | G88: 2 | I88: 0 | L88: 1 | M88: 0 | P88: =(1/12)*C88 -> 0.083333333 | Q88: =(1/12)*C88 -> 0.083333333 | R88: =(1/24)*C88 -> 0.041666667 | S88: 0 | Z88: =(3/12)*C88 -> 0.25 | AA88: =(3/12)*C88 -> 0.25 | AB88: =(3/12)*C88 -> 0.25 | AG88: =(4/12)*C88 -> 0.33333333 | AJ88: =(1.5/12)*C88 -> 0.125 | AL88: =(1/12)*C88 -> 0.083333333 | AP88: =(1/12)*C88 -> 0.083333333 | AT88: 0
A89: GAU | B89: South Bakels | C89: 1 | D89: 4 | G89: 0 | I89: 0 | L89: 1 | M89: 0 | P89: =(1/12)*C89 -> 0.083333333 | Q89: =(1/12)*C89 -> 0.083333333 | R89: =(1/24)*C89 -> 0.041666667 | S89: 4 | Z89: =(3/12)*C89 -> 0.25 | AA89: =(3/12)*C89 -> 0.25 | AB89: =(3/12)*C89 -> 0.25 | AG89: =(4/12)*C89 -> 0.33333333 | AJ89: =(1.5/12)*C89 -> 0.125 | AL89: =(1/12)*C89 -> 0.083333333 | AP89: =(1/12)*C89 -> 0.083333333 | AT89: 0
A90: GAU | B90: Caxton & CTP | C90: 2 | D90: 4 | G90: 0 | I90: 4 | L90: 1 | M90: 0 | P90: =(1/12)*C90 -> 0.16666667 | Q90: =(1/12)*C90 -> 0.16666667 | R90: =(1/24)*C90 -> 0.083333333 | S90: 8 | Z90: =(3/12)*C90 -> 0.5 | AA90: =(3/12)*C90 -> 0.5 | AB90: =(3/12)*C90 -> 0.5 | AG90: =(4/12)*C90 -> 0.66666667 | AJ90: =(1.5/12)*C90 -> 0.25 | AL90: =(1/12)*C90 -> 0.16666667 | AP90: =(1/12)*C90 -> 0.16666667 | AT90: 0
A91: GAU | B91: De Beers, Crown Mines | C91: 1 | D91: 2 | G91: 0 | I91: 0 | L91: 1 | M91: 0 | P91: =(1/12)*C91 -> 0.083333333 | Q91: =(1/12)*C91 -> 0.083333333 | R91: =(1/24)*C91 -> 0.041666667 | S91: 0 | Z91: =(3/12)*C91 -> 0.25 | AA91: =(3/12)*C91 -> 0.25 | AB91: =(3/12)*C91 -> 0.25 | AF91: =(4/12)*C91 -> 0.33333333 | AJ91: =(1.5/12)*C91 -> 0.125 | AL91: =(1/12)*C91 -> 0.083333333 | AP91: =(1/12)*C91 -> 0.083333333 | AT91: 1
A92: GAU | B92: Anglo research | C92: 2 | D92: 6 | G92: 0 | I92: 0 | L92: 1 | M92: 0 | P92: =(1/12)*C92 -> 0.16666667 | Q92: =(1/12)*C92 -> 0.16666667 | R92: =(1/24)*C92 -> 0.083333333 | S92: 0 | Z92: =(3/12)*C92 -> 0.5 | AA92: =(3/12)*C92 -> 0.5 | AB92: =(3/12)*C92 -> 0.5 | AF92: =(4/12)*C92 -> 0.66666667 | AJ92: =(1.5/12)*C92 -> 0.25 | AL92: =(1/12)*C92 -> 0.16666667 | AP92: =(1/12)*C92 -> 0.16666667 | AT92: 0
A93: GAU | B93: Freddy Hirsch | C93: 1 | D93: 2 | G93: 0 | I93: 0 | L93: 1 | M93: 0 | P93: =(1/12)*C93 -> 0.083333333 | Q93: =(1/12)*C93 -> 0.083333333 | R93: =(1/24)*C93 -> 0.041666667 | S93: 0 | Z93: =(3/12)*C93 -> 0.25 | AA93: =(3/12)*C93 -> 0.25 | AB93: =(3/12)*C93 -> 0.25 | AG93: =(4/12)*C93 -> 0.33333333 | AJ93: =(1.5/12)*C93 -> 0.125 | AL93: =(1/12)*C93 -> 0.083333333 | AP93: =(1/12)*C93 -> 0.083333333 | AT93: 0
A94: GAU | B94: Rutherford | C94: 1 | D94: 2 | G94: 0 | I94: 0 | L94: 1 | M94: 0 | P94: =(1/12)*C94 -> 0.083333333 | Q94: =(1/12)*C94 -> 0.083333333 | R94: =(1/24)*C94 -> 0.041666667 | S94: 0 | Z94: =(3/12)*C94 -> 0.25 | AA94: =(3/12)*C94 -> 0.25 | AB94: =(3/12)*C94 -> 0.25 | AG94: =(4/12)*C94 -> 0.33333333 | AJ94: =(1.5/12)*C94 -> 0.125 | AL94: =(1/12)*C94 -> 0.083333333 | AP94: =(1/12)*C94 -> 0.083333333 | AT94: 0
A95: GAU | B95: Engen Rivonia Road | C95: 1 | D95: 2 | G95: 0 | I95: 0 | L95: 1 | M95: 0 | P95: =(1/12)*C95 -> 0.083333333 | Q95: =(1/12)*C95 -> 0.083333333 | R95: =(1/24)*C95 -> 0.041666667 | S95: 0 | Z95: =(3/12)*C95 -> 0.25 | AA95: =(3/12)*C95 -> 0.25 | AB95: =(3/12)*C95 -> 0.25 | AG95: =(4/12)*C95 -> 0.33333333 | AJ95: =(1.5/12)*C95 -> 0.125 | AL95: =(1/12)*C95 -> 0.083333333 | AP95: =(1/12)*C95 -> 0.083333333 | AT95: 0
A96: GAU | B96: Menar | C96: 1 | D96: 2 | G96: 0 | I96: 0 | L96: 1 | M96: 0 | P96: =(1/12)*C96 -> 0.083333333 | Q96: =(1/12)*C96 -> 0.083333333 | R96: =(1/24)*C96 -> 0.041666667 | S96: 0 | Z96: =(3/12)*C96 -> 0.25 | AA96: =(3/12)*C96 -> 0.25 | AB96: =(3/12)*C96 -> 0.25 | AG96: =(4/12)*C96 -> 0.33333333 | AJ96: =(1.5/12)*C96 -> 0.125 | AL96: =(1/12)*C96 -> 0.083333333 | AP96: =(1/12)*C96 -> 0.083333333 | AT96: 0
A97: GAU | B97: Actom | C97: 1 | D97: 4 | P97: =(1/12)*C97 -> 0.083333333 | Q97: =(1/12)*C97 -> 0.083333333 | R97: =(1/24)*C97 -> 0.041666667 | Z97: =(3/12)*C97 -> 0.25 | AA97: =(3/12)*C97 -> 0.25 | AB97: =(3/12)*C97 -> 0.25 | AG97: =(4/12)*C97 -> 0.33333333 | AJ97: =(1.5/12)*C97 -> 0.125 | AL97: =(1/12)*C97 -> 0.083333333 | AP97: =(1/12)*C97 -> 0.083333333
A98: GAU | B98: Air Chefs | C98: 2 | D98: 8 | P98: =(1/12)*C98 -> 0.16666667 | Q98: =(1/12)*C98 -> 0.16666667 | R98: =(1/24)*C98 -> 0.083333333 | S98: 4 | Z98: =(3/12)*C98 -> 0.5 | AA98: =(3/12)*C98 -> 0.5 | AB98: =(3/12)*C98 -> 0.5 | AG98: =(4/12)*C98 -> 0.66666667 | AI98: =(1.5/12)*C98 -> 0.25 | AJ98: =(1.5/12)*C98 -> 0.25 | AL98: =(1/12)*C98 -> 0.16666667 | AP98: =(1/12)*C98 -> 0.16666667
A99: GAU | B99: AVI Entyce | C99: 5 | D99: 20 | L99: 40 | P99: =(1/12)*C99 -> 0.41666667 | Q99: =(1/12)*C99 -> 0.41666667 | R99: =(1/24)*C99 -> 0.20833333 | S99: 6 | Z99: =(3/12)*C99 -> 1.25 | AA99: =(3/12)*C99 -> 1.25 | AB99: =(3/12)*C99 -> 1.25 | AG99: =(4/12)*C99 -> 1.6666667 | AI99: =(1.5/12)*C99 -> 0.625 | AJ99: =(1.5/12)*C99 -> 0.625 | AL99: =(1/12)*C99 -> 0.41666667 | AP99: =(1/12)*C99 -> 0.41666667 | AV99: 2
A100: GAU | B100: AVI Snackworks | C100: 13 | D100: 48 | L100: 20 | P100: =(1/12)*C100 -> 1.0833333 | Q100: =(1/12)*C100 -> 1.0833333 | R100: =(1/24)*C100 -> 0.54166667 | Z100: =(3/12)*C100 -> 3.25 | AA100: =(3/12)*C100 -> 3.25 | AB100: =(3/12)*C100 -> 3.25 | AG100: =(4/12)*C100 -> 4.3333333 | AJ100: =(1.5/12)*C100 -> 1.625 | AL100: =(1/12)*C100 -> 1.0833333 | AP100: =(1/12)*C100 -> 1.0833333 | AV100: 3
...

Sheet Annual Requirement
A1: NATIONAL ON-SITE ANNUAL PPE REQUIREMENT | D1: GLOVES | J1: MASKS | P1: CLOTHING | AD1: EYE & FACE | AI1: FEET | AL1: HEAD | AR1: EAR | AT1: OTHER
A2: Region | B2: Site | C2: Staff | D2: Gripper "Crayfish" Gloves | E2: Cut resistant Level 5 Gloves | F2: Welders Gloves | G2: PVC Gloves | H2: PVC elbow length glove | I2: Surgical Gloves | J2: Surgical Masks | K2: Dust Mask FFP3 | L2: Dust Mask FFP2 | M2: 3M Half Mask respirator | N2: 3M Half Mask respirator Cartages ABEK 1 | O2: 3M Half Mask retainer | P2: Reflective Jackets - Orange with branding | Q2: Rain Suits Small to 3XL | R2: Winter Jackets Small to 3XL | S2: Serenex Dust Suits Small to 3 XL (White Suits) | T2: Overalls Trouser Flame and Acid retardant (Blue) | U2: Overalls Jacket Flame and Acid retardant (Blue) | V2: Overalls Trouser Flame and Acid retardant (Green) | W2: Overalls Jacket Flame and Acid retardant (Green) | X2: Overalls Trousers Acid Proof | Y2: Overall Jackets Acid Proof | Z2: Overalls Trousers Non Acid | AA2: Overall Jackets Non Acid | AB2: T- Shirts | AC2: Bee suits | AD2: Welding Goggles | AE2: Safety Goggles with elastic band | AF2: Safety Spoggles - Safety Eyewear | AG2: Standard sporty spectacles eyewear | AH2: Face Shield | AI2: Gum boots | AJ2: Safety Boots | AK2: Spats | AL2: Caps | AM2: Cricket Hats | AN2: Bump Caps | AO2: Hard hat orange brim | AP2: Hard Hats | AQ2: Chin straps | AR2: Ear Plugs - Corded | AS2: Ear Mufs | AT2: PVC Aprons - Heavy duty | AU2: Leather Apron | AV2: Kidney Belts
A3: =Sites!A3 -> GAU | B3: =Sites!B3 -> Aquazania | C3: =Sites!C3 -> 1 | D3: =Sites!D3*12 -> 48 | E3: =Sites!E3*12 -> 0 | F3: =Sites!F3*12 -> 0 | G3: =Sites!G3*12 -> 0 | H3: =Sites!H3*12 -> 0 | I3: =Sites!I3*12 -> 0 | J3: =Sites!J3*12 -> 0 | K3: =Sites!K3*12 -> 48 | ... AV3: =Sites!AV3*12 -> 0
A4: =Sites!A4 -> GAU | B4: =Sites!B4 -> Idemia | C4: =Sites!C4 -> 1 | D4: =Sites!D4*12 -> 48 | E4: =Sites!E4*12 -> 0 | F4: =Sites!F4*12 -> 0 | G4: =Sites!G4*12 -> 0 | H4: =Sites!H4*12 -> 0 | I4: =Sites!I4*12 -> 0 | J4: =Sites!J4*12 -> 0 | K4: =Sites!K4*12 -> 72 | ... AV4: =Sites!AV4*12 -> 0
A5: =Sites!A5 -> GAU | B5: =Sites!B5 -> Givaudan Linbro Park | C5: =Sites!C5 -> 1 | D5: =Sites!D5*12 -> 48 | E5: =Sites!E5*12 -> 0 | F5: =Sites!F5*12 -> 0 | G5: =Sites!G5*12 -> 0 | H5: =Sites!H5*12 -> 0 | I5: =Sites!I5*12 -> 0 | J5: =Sites!J5*12 -> 0 | L5: 72 | M5: =Sites!M5*12 -> 0 | N5: =Sites!N5*12 -> 0 | O5: =Sites!O5*12 -> 0 | P5: =Sites!P5*12 -> 1 | Q5: =Sites!Q5*12 -> 0 | R5: =Sites!R5*12 -> 0.5 | S5: =Sites!S5*12 -> 0 | T5: =Sites!T5*12 -> 0 | ... AV5: =Sites!AV5*12 -> 0
A6: =Sites!A6 -> GAU | B6: =Sites!B6 -> ALS Chemex | C6: =Sites!C6 -> 1 | D6: =Sites!D6*12 -> 48 | E6: =Sites!E6*12 -> 0 | F6: =Sites!F6*12 -> 0 | G6: =Sites!G6*12 -> 0 | H6: =Sites!H6*12 -> 0 | I6: =Sites!I6*12 -> 0 | J6: =Sites!J6*12 -> 0 | L6: 144 | M6: =Sites!M6*12 -> 0 | N6: =Sites!N6*12 -> 0 | O6: =Sites!O6*12 -> 0 | P6: =Sites!P6*12 -> 1 | Q6: =Sites!Q6*12 -> 0 | R6: =Sites!R6*12 -> 0.5 | S6: =Sites!S6*12 -> 0 | T6: =Sites!T6*12 -> 0 | ... AV6: =Sites!AV6*12 -> 0
A7: =Sites!A7 -> GAU | B7: =Sites!B7 -> Busamed | C7: =Sites!C7 -> 1 | D7: =Sites!D7*12 -> 48 | E7: =Sites!E7*12 -> 0 | F7: =Sites!F7*12 -> 0 | G7: =Sites!G7*12 -> 0 | H7: =Sites!H7*12 -> 0 | I7: =Sites!I7*12 -> 0 | J7: =Sites!J7*12 -> 0 | L7: 72 | M7: =Sites!M7*12 -> 0 | N7: =Sites!N7*12 -> 0 | O7: =Sites!O7*12 -> 0 | P7: =Sites!P7*12 -> 1 | Q7: =Sites!Q7*12 -> 0 | R7: =Sites!R7*12 -> 0.5 | S7: =Sites!S7*12 -> 0 | T7: =Sites!T7*12 -> 0 | ... AV7: =Sites!AV7*12 -> 0
A8: =Sites!A8 -> GAU | B8: =Sites!B8 -> Valemount | C8: =Sites!C8 -> 1 | D8: =Sites!D8*12 -> 48 | E8: =Sites!E8*12 -> 0 | F8: =Sites!F8*12 -> 0 | G8: =Sites!G8*12 -> 0 | H8: =Sites!H8*12 -> 0 | I8: =Sites!I8*12 -> 0 | J8: =Sites!J8*12 -> 0 | L8: 72 | M8: =Sites!M8*12 -> 0 | N8: =Sites!N8*12 -> 0 | O8: =Sites!O8*12 -> 0 | P8: =Sites!P8*12 -> 1 | Q8: =Sites!Q8*12 -> 0 | R8: =Sites!R8*12 -> 0.5 | S8: =Sites!S8*12 -> 0 | T8: =Sites!T8*12 -> 0 | ... AV8: =Sites!AV8*12 -> 0
A9: =Sites!A9 -> GAU | B9: =Sites!B9 -> Freedomwon | C9: =Sites!C9 -> 1 | D9: =Sites!D9*12 -> 48 | E9: =Sites!E9*12 -> 0 | F9: =Sites!F9*12 -> 0 | G9: =Sites!G9*12 -> 0 | H9: =Sites!H9*12 -> 0 | I9: =Sites!I9*12 -> 0 | J9: =Sites!J9*12 -> 0 | L9: 72 | M9: =Sites!M9*12 -> 0 | N9: =Sites!N9*12 -> 0 | O9: =Sites!O9*12 -> 0 | P9: =Sites!P9*12 -> 1 | Q9: =Sites!Q9*12 -> 0 | R9: =Sites!R9*12 -> 0.5 | S9: =Sites!S9*12 -> 0 | T9: =Sites!T9*12 -> 0 | ... AV9: =Sites!AV9*12 -> 0
A10: =Sites!A10 -> GAU | B10: =Sites!B10 -> The Country Pie | C10: =Sites!C10 -> 1 | D10: =Sites!D10*12 -> 0 | E10: =Sites!E10*12 -> 0 | F10: =Sites!F10*12 -> 0 | G10: =Sites!G10*12 -> 0 | H10: =Sites!H10*12 -> 0 | I10: =Sites!I10*12 -> 0 | J10: =Sites!J10*12 -> 0 | L10: 0 | M10: =Sites!M10*12 -> 0 | N10: =Sites!N10*12 -> 0 | O10: =Sites!O10*12 -> 0 | P10: =Sites!P10*12 -> 1 | Q10: =Sites!Q10*12 -> 0 | R10: =Sites!R10*12 -> 0.5 | S10: =Sites!S10*12 -> 0 | T10: =Sites!T10*12 -> 0 | ... AV10: =Sites!AV10*12 -> 0
A11: =Sites!A11 -> GAU | B11: =Sites!B11 -> Donaldson Filtration | C11: =Sites!C11 -> 1 | D11: =Sites!D11*12 -> 48 | E11: =Sites!E11*12 -> 0 | F11: =Sites!F11*12 -> 0 | G11: =Sites!G11*12 -> 0 | H11: =Sites!H11*12 -> 0 | I11: =Sites!I11*12 -> 0 | J11: =Sites!J11*12 -> 0 | L11: 72 | M11: =Sites!M11*12 -> 0 | N11: =Sites!N11*12 -> 0 | O11: =Sites!O11*12 -> 0 | P11: =Sites!P11*12 -> 1 | Q11: =Sites!Q11*12 -> 0 | R11: =Sites!R11*12 -> 0.5 | S11: =Sites!S11*12 -> 0 | T11: =Sites!T11*12 -> 0 | ... AV11: =Sites!AV11*12 -> 0
A12: =Sites!A12 -> GAU | B12: =Sites!B12 -> Chipkins | C12: =Sites!C12 -> 2 | D12: =Sites!D12*12 -> 96 | E12: =Sites!E12*12 -> 0 | F12: =Sites!F12*12 -> 0 | G12: =Sites!G12*12 -> 0 | H12: =Sites!H12*12 -> 0 | I12: =Sites!I12*12 -> 0 | J12: =Sites!J12*12 -> 0 | L12: 240 | M12: =Sites!M12*12 -> 0 | N12: =Sites!N12*12 -> 0 | O12: =Sites!O12*12 -> 0 | P12: =Sites!P12*12 -> 2 | Q12: =Sites!Q12*12 -> 0 | R12: =Sites!R12*12 -> 1 | S12: =Sites!S12*12 -> 192 | T12: =Sites!T12*12 -> 0 | ... AV12: =Sites!AV12*12 -> 0
A13: =Sites!A13 -> GAU | B13: =Sites!B13 -> SAAB | C13: =Sites!C13 -> 1 | D13: =Sites!D13*12 -> 48 | E13: =Sites!E13*12 -> 0 | F13: =Sites!F13*12 -> 0 | G13: =Sites!G13*12 -> 0 | H13: =Sites!H13*12 -> 0 | I13: =Sites!I13*12 -> 0 | J13: =Sites!J13*12 -> 0 | L13: 96 | M13: =Sites!M13*12 -> 0 | N13: =Sites!N13*12 -> 0 | O13: =Sites!O13*12 -> 0 | P13: =Sites!P13*12 -> 1 | Q13: =Sites!Q13*12 -> 0 | R13: =Sites!R13*12 -> 0.5 | S13: =Sites!S13*12 -> 0 | T13: =Sites!T13*12 -> 0 | ... AV13: =Sites!AV13*12 -> 0
A14: =Sites!A14 -> GAU | B14: =Sites!B14 -> Premier Foods Lordsview | C14: =Sites!C14 -> 1 | D14: =Sites!D14*12 -> 48 | E14: =Sites!E14*12 -> 0 | F14: =Sites!F14*12 -> 0 | G14: =Sites!G14*12 -> 0 | H14: =Sites!H14*12 -> 0 | I14: =Sites!I14*12 -> 0 | J14: =Sites!J14*12 -> 0 | L14: 96 | M14: =Sites!M14*12 -> 0 | N14: =Sites!N14*12 -> 0 | O14: =Sites!O14*12 -> 0 | P14: =Sites!P14*12 -> 1 | Q14: =Sites!Q14*12 -> 0 | R14: =Sites!R14*12 -> 0.5 | S14: =Sites!S14*12 -> 0 | T14: =Sites!T14*12 -> 0 | ... AV14: =Sites!AV14*12 -> 0
A15: =Sites!A15 -> GAU | B15: =Sites!B15 -> Fresenius Kabi | C15: =Sites!C15 -> 1 | D15: =Sites!D15*12 -> 24 | E15: =Sites!E15*12 -> 0 | F15: =Sites!F15*12 -> 0 | G15: =Sites!G15*12 -> 0 | H15: =Sites!H15*12 -> 0 | I15: =Sites!I15*12 -> 0 | J15: =Sites!J15*12 -> 0 | L15: 48 | M15: =Sites!M15*12 -> 0 | N15: =Sites!N15*12 -> 0 | O15: =Sites!O15*12 -> 0 | P15: =Sites!P15*12 -> 1 | Q15: =Sites!Q15*12 -> 0 | R15: =Sites!R15*12 -> 0.5 | S15: =Sites!S15*12 -> 0 | T15: =Sites!T15*12 -> 0 | ... AV15: =Sites!AV15*12 -> 0
A16: =Sites!A16 -> GAU | B16: =Sites!B16 -> King Pie | C16: =Sites!C16 -> 1 | D16: =Sites!D16*12 -> 48 | E16: =Sites!E16*12 -> 0 | F16: =Sites!F16*12 -> 0 | G16: =Sites!G16*12 -> 0 | H16: =Sites!H16*12 -> 0 | I16: =Sites!I16*12 -> 0 | J16: =Sites!J16*12 -> 0 | L16: 96 | M16: =Sites!M16*12 -> 0 | N16: =Sites!N16*12 -> 0 | O16: =Sites!O16*12 -> 0 | P16: =Sites!P16*12 -> 1 | Q16: =Sites!Q16*12 -> 0 | R16: =Sites!R16*12 -> 0.5 | S16: =Sites!S16*12 -> 48 | T16: =Sites!T16*12 -> 0 | ... AV16: =Sites!AV16*12 -> 0
... A38: =Sites!A38 -> GAU | B38: =Sites!B38 -> ATD | C38: =Sites!C38 -> 5 | D38: =Sites!D38*12 -> 288 | E38: =Sites!E38*12 -> 0 | F38: =Sites!F38*12 -> 0 | G38: =Sites!G38*12 -> 0 | H38: =Sites!H38*12 -> 0 | I38: =Sites!I38*12 -> 0 | J38: =Sites!J38*12 -> 0 | L38: 480 | M38: =Sites!M38*12 -> 0 | N38: =Sites!N38*12 -> 0 | O38: =Sites!O38*12 -> 0 | P38: =Sites!P38*12 -> 5 | Q38: =Sites!Q38*12 -> 5 | R38: =Sites!R38*12 -> 2.5 | S38: =Sites!S38*12 -> 0 | T38: =Sites!T38*12 -> 0 | ... AV38: =Sites!AV38*12 -> 0
A39: =Sites!A39 -> GAU | B39: =Sites!B39 -> BMW VDC | C39: =Sites!C39 -> 4 | D39: =Sites!D39*12 -> 144 | E39: =Sites!E39*12 -> 144 | F39: =Sites!F39*12 -> 0 | G39: =Sites!G39*12 -> 0 | H39: =Sites!H39*12 -> 0 | I39: =Sites!I39*12 -> 0 | J39: =Sites!J39*12 -> 1200 | K39: =Sites!K39*12 -> 0 | ... AV39: =Sites!AV39*12 -> 0
A40: =Sites!A40 -> GAU | B40: =Sites!B40 -> DMS Powders | C40: =Sites!C40 -> 1 | D40: =Sites!D40*12 -> 24 | E40: =Sites!E40*12 -> 0 | F40: =Sites!F40*12 -> 0 | G40: =Sites!G40*12 -> 0 | H40: =Sites!H40*12 -> 0 | I40: =Sites!I40*12 -> 0 | J40: =Sites!J40*12 -> 0 | K40: =Sites!K40*12 -> 0 | ... AV40: =Sites!AV40*12 -> 0
A41: =Sites!A41 -> GAU | B41: =Sites!B41 -> AECI | C41: =Sites!C41 -> 1 | D41: =Sites!D41*12 -> 24 | E41: =Sites!E41*12 -> 0 | F41: =Sites!F41*12 -> 0 | G41: =Sites!G41*12 -> 0 | H41: =Sites!H41*12 -> 0 | I41: =Sites!I41*12 -> 0 | J41: =Sites!J41*12 -> 0 | K41: =Sites!K41*12 -> 0 | ... AV41: =Sites!AV41*12 -> 0
A42: =Sites!A42 -> GAU | B42: =Sites!B42 -> Scaw Vereeniging | C42: =Sites!C42 -> 1 | D42: =Sites!D42*12 -> 24 | E42: =Sites!E42*12 -> 0 | F42: =Sites!F42*12 -> 0 | G42: =Sites!G42*12 -> 0 | H42: =Sites!H42*12 -> 0 | I42: =Sites!I42*12 -> 0 | J42: =Sites!J42*12 -> 0 | K42: =Sites!K42*12 -> 0 | ... AV42: =Sites!AV42*12 -> 0
A43: =Sites!A43 -> GAU | B43: =Sites!B43 -> Bevcan Nampk - DivFood | C43: =Sites!C43 -> 4 | D43: =Sites!D43*12 -> 48 | E43: =Sites!E43*12 -> 0 | F43: =Sites!F43*12 -> 0 | G43: =Sites!G43*12 -> 0 | H43: =Sites!H43*12 -> 0 | I43: =Sites!I43*12 -> 0 | J43: =Sites!J43*12 -> 0 | K43: =Sites!K43*12 -> 0 | ... AV43: =Sites!AV43*12 -> 0
A44: =Sites!A44 -> GAU | B44: =Sites!B44 -> Natref | C44: =Sites!C44 -> 4 | D44: =Sites!D44*12 -> 72 | E44: =Sites!E44*12 -> 0 | F44: =Sites!F44*12 -> 0 | G44: =Sites!G44*12 -> 0 | H44: =Sites!H44*12 -> 0 | I44: =Sites!I44*12 -> 0 | J44: =Sites!J44*12 -> 0 | K44: =Sites!K44*12 -> 0 | ... AV44: =Sites!AV44*12 -> 0
A45: =Sites!A45 -> GAU | B45: =Sites!B45 -> Tiger Brands Albany | C45: =Sites!C45 -> 1 | D45: =Sites!D45*12 -> 24 | E45: =Sites!E45*12 -> 0 | F45: =Sites!F45*12 -> 0 | G45: =Sites!G45*12 -> 0 | H45: =Sites!H45*12 -> 0 | I45: =Sites!I45*12 -> 0 | J45: =Sites!J45*12 -> 0 | K45: =Sites!K45*12 -> 0 | ... AV45: =Sites!AV45*12 -> 0
A46: =Sites!A46 -> GAU | B46: =Sites!B46 -> Premier Kroonstad | C46: =Sites!C46 -> 4 | D46: =Sites!D46*12 -> 48 | E46: =Sites!E46*12 -> 0 | F46: =Sites!F46*12 -> 0 | G46: =Sites!G46*12 -> 0 | H46: =Sites!H46*12 -> 0 | I46: =Sites!I46*12 -> 0 | J46: =Sites!J46*12 -> 0 | K46: =Sites!K46*12 -> 0 | ... AV46: =Sites!AV46*12 -> 0
A47: =Sites!A47 -> GAU | B47: =Sites!B47 -> Mittal | C47: =Sites!C47 -> 8 | D47: =Sites!D47*12 -> 144 | E47: =Sites!E47*12 -> 0 | F47: =Sites!F47*12 -> 0 | G47: =Sites!G47*12 -> 0 | H47: =Sites!H47*12 -> 0 | I47: =Sites!I47*12 -> 0 | J47: =Sites!J47*12 -> 0 | K47: =Sites!K47*12 -> 0 | ... AV47: =Sites!AV47*12 -> 0
A48: =Sites!A48 -> GAU | B48: =Sites!B48 -> Cable Tapes | C48: =Sites!C48 -> 1 | D48: =Sites!D48*12 -> 60 | E48: =Sites!E48*12 -> 0 | F48: =Sites!F48*12 -> 0 | G48: =Sites!G48*12 -> 0 | H48: =Sites!H48*12 -> 0 | I48: =Sites!I48*12 -> 0 | J48: =Sites!J48*12 -> 0 | L48: 120 | M48: =Sites!M48*12 -> 0 | N48: =Sites!N48*12 -> 0 | O48: =Sites!O48*12 -> 0 | P48: =Sites!P48*12 -> 1 | Q48: =Sites!Q48*12 -> 0 | R48: =Sites!R48*12 -> 0.5 | S48: =Sites!S48*12 -> 0 | T48: =Sites!T48*12 -> 0 | ... AV48: =Sites!AV48*12 -> 0
A49: =Sites!A49 -> GAU | B49: =Sites!B49 -> Deltec Energy Solutions | C49: =Sites!C49 -> 1 | D49: =Sites!D49*12 -> 72 | E49: =Sites!E49*12 -> 0 | F49: =Sites!F49*12 -> 0 | G49: =Sites!G49*12 -> 0 | H49: =Sites!H49*12 -> 0 | I49: =Sites!I49*12 -> 0 | J49: =Sites!J49*12 -> 0 | L49: 120 | M49: =Sites!M49*12 -> 0 | N49: =Sites!N49*12 -> 0 | O49: =Sites!O49*12 -> 0 | P49: =Sites!P49*12 -> 1 | Q49: =Sites!Q49*12 -> 0 | R49: =Sites!R49*12 -> 0.5 | S49: =Sites!S49*12 -> 0 | T49: =Sites!T49*12 -> 0 | ... AV49: =Sites!AV49*12 -> 0
A50: =Sites!A50 -> GAU | B50: =Sites!B50 -> Prominent Paints | C50: =Sites!C50 -> 4 | D50: =Sites!D50*12 -> 288 | E50: =Sites!E50*12 -> 0 | F50: =Sites!F50*12 -> 0 | G50: =Sites!G50*12 -> 48 | H50: =Sites!H50*12 -> 0 | I50: =Sites!I50*12 -> 0 | J50: =Sites!J50*12 -> 0 | L50: 240 | M50: =Sites!M50*12 -> 0 | N50: =Sites!N50*12 -> 0 | O50: =Sites!O50*12 -> 0 | P50: =Sites!P50*12 -> 4 | Q50: =Sites!Q50*12 -> 0 | R50: =Sites!R50*12 -> 2 | S50: =Sites!S50*12 -> 48 | T50: =Sites!T50*12 -> 0 | ... AV50: =Sites!AV50*12 -> 0
A51: =Sites!A51 -> GAU | B51: =Sites!B51 -> Air Liquide Alrode | C51: =Sites!C51 -> 1 | D51: =Sites!D51*12 -> 72 | E51: =Sites!E51*12 -> 0 | F51: =Sites!F51*12 -> 0 | G51: =Sites!G51*12 -> 0 | H51: =Sites!H51*12 -> 0 | I51: =Sites!I51*12 -> 0 | J51: =Sites!J51*12 -> 0 | L51: 240 | M51: =Sites!M51*12 -> 0 | N51: =Sites!N51*12 -> 0 | O51: =Sites!O51*12 -> 0 | P51: =Sites!P51*12 -> 1 | Q51: =Sites!Q51*12 -> 0 | R51: =Sites!R51*12 -> 0.5 | S51: =Sites!S51*12 -> 0 | T51: =Sites!T51*12 -> 3 | ... AV51: =Sites!AV51*12 -> 0
A52: =Sites!A52 -> GAU | B52: =Sites!B52 -> Friendly Cow | C52: =Sites!C52 -> 1 | D52: =Sites!D52*12 -> 72 | E52: =Sites!E52*12 -> 0 | F52: =Sites!F52*12 -> 0 | G52: =Sites!G52*12 -> 0 | H52: =Sites!H52*12 -> 0 | I52: =Sites!I52*12 -> 0 | J52: =Sites!J52*12 -> 0 | L52: 120 | M52: =Sites!M52*12 -> 0 | N52: =Sites!N52*12 -> 0 | O52: =Sites!O52*12 -> 0 | P52: =Sites!P52*12 -> 1 | Q52: =Sites!Q52*12 -> 0 | R52: =Sites!R52*12 -> 0.5 | S52: =Sites!S52*12 -> 0 | T52: =Sites!T52*12 -> 0 | ... AV52: =Sites!AV52*12 -> 0
A53: =Sites!A53 -> GAU | B53: =Sites!B53 -> Ferrero | C53: =Sites!C53 -> 1 | D53: =Sites!D53*12 -> 72 | E53: =Sites!E53*12 -> 0 | F53: =Sites!F53*12 -> 0 | G53: =Sites!G53*12 -> 0 | H53: =Sites!H53*12 -> 0 | I53: =Sites!I53*12 -> 0 | J53: =Sites!J53*12 -> 0 | L53: 120 | M53: =Sites!M53*12 -> 0 | N53: =Sites!N53*12 -> 0 | O53: =Sites!O53*12 -> 0 | P53: =Sites!P53*12 -> 1 | Q53: =Sites!Q53*12 -> 0 | R53: =Sites!R53*12 -> 0.5 | S53: =Sites!S53*12 -> 0 | T53: =Sites!T53*12 -> 0 | ... AV53: =Sites!AV53*12 -> 0
A54: =Sites!A54 -> GAU | B54: =Sites!B54 -> Heineken | C54: =Sites!C54 -> 15 | D54: =Sites!D54*12 -> 576 | E54: =Sites!E54*12 -> 144 | F54: =Sites!F54*12 -> 0 | G54: =Sites!G54*12 -> 0 | H54: =Sites!H54*12 -> 0 | I54: =Sites!I54*12 -> 0 | J54: =Sites!J54*12 -> 0 | L54: 480 | M54: =Sites!M54*12 -> 0 | N54: =Sites!N54*12 -> 0 | O54: =Sites!O54*12 -> 0 | P54: =Sites!P54*12 -> 15 | Q54: =Sites!Q54*12 -> 0 | R54: =Sites!R54*12 -> 7.5 | S54: =Sites!S54*12 -> 0 | T54: =Sites!T54*12 -> 0 | ... AV54: =Sites!AV54*12 -> 48
A55: =Sites!A55 -> GAU | B55: =Sites!B55 -> Babcock | C55: =Sites!C55 -> 1 | D55: =Sites!D55*12 -> 72 | E55: =Sites!E55*12 -> 0 | F55: =Sites!F55*12 -> 0 | G55: =Sites!G55*12 -> 0 | H55: =Sites!H55*12 -> 0 | I55: =Sites!I55*12 -> 0 | J55: =Sites!J55*12 -> 0 | L55: 120 | M55: =Sites!M55*12 -> 0 | N55: =Sites!N55*12 -> 0 | O55: =Sites!O55*12 -> 0 | P55: =Sites!P55*12 -> 1 | Q55: =Sites!Q55*12 -> 0 | R55: =Sites!R55*12 -> 0.5 | S55: =Sites!S55*12 -> 0 | T55: =Sites!T55*12 -> 0 | ... AV55: =Sites!AV55*12 -> 0
A56: =Sites!A56 -> GAU | B56: =Sites!B56 -> Marcopolo | C56: =Sites!C56 -> 2 | D56: =Sites!D56*12 -> 144 | E56: =Sites!E56*12 -> 0 | F56: =Sites!F56*12 -> 0 | G56: =Sites!G56*12 -> 0 | H56: =Sites!H56*12 -> 0 | I56: =Sites!I56*12 -> 0 | J56: =Sites!J56*12 -> 0 | L56: 240 | M56: =Sites!M56*12 -> 0 | N56: =Sites!N56*12 -> 0 | O56: =Sites!O56*12 -> 0 | P56: =Sites!P56*12 -> 2 | Q56: =Sites!Q56*12 -> 0 | R56: =Sites!R56*12 -> 1 | S56: =Sites!S56*12 -> 48 | T56: =Sites!T56*12 -> 0 | ... AV56: =Sites!AV56*12 -> 0
A57: =Sites!A57 -> GAU | B57: =Sites!B57 -> Haggie Scaw | C57: =Sites!C57 -> 1 | D57: =Sites!D57*12 -> 72 | E57: =Sites!E57*12 -> 0 | F57: =Sites!F57*12 -> 0 | G57: =Sites!G57*12 -> 0 | H57: =Sites!H57*12 -> 0 | I57: =Sites!I57*12 -> 0 | J57: =Sites!J57*12 -> 0 | L57: 120 | M57: =Sites!M57*12 -> 0 | N57: =Sites!N57*12 -> 0 | O57: =Sites!O57*12 -> 0 | P57: =Sites!P57*12 -> 1 | Q57: =Sites!Q57*12 -> 0 | R57: =Sites!R57*12 -> 0.5 | S57: =Sites!S57*12 -> 0 | T57: =Sites!T57*12 -> 0 | ... AV57: =Sites!AV57*12 -> 0
A58: =Sites!A58 -> GAU | B58: =Sites!B58 -> Isuzu | C58: =Sites!C58 -> 3 | D58: =Sites!D58*12 -> 288 | E58: =Sites!E58*12 -> 0 | F58: =Sites!F58*12 -> 0 | G58: =Sites!G58*12 -> 0 | H58: =Sites!H58*12 -> 0 | I58: =Sites!I58*12 -> 0 | J58: =Sites!J58*12 -> 0 | L58: 240 | M58: =Sites!M58*12 -> 0 | N58: =Sites!N58*12 -> 0 | O58: =Sites!O58*12 -> 0 | P58: =Sites!P58*12 -> 3 | Q58: =Sites!Q58*12 -> 0 | R58: =Sites!R58*12 -> 1.5 | S58: =Sites!S58*12 -> 0 | T58: =Sites!T58*12 -> 0 | ... AV58: =Sites!AV58*12 -> 0
A59: =Sites!A59 -> GAU | B59: =Sites!B59 -> GMSA | C59: =Sites!C59 -> 2 | D59: =Sites!D59*12 -> 144 | E59: =Sites!E59*12 -> 0 | F59: =Sites!F59*12 -> 0 | G59: =Sites!G59*12 -> 0 | H59: =Sites!H59*12 -> 0 | I59: =Sites!I59*12 -> 0 | J59: =Sites!J59*12 -> 0 | L59: 240 | M59: =Sites!M59*12 -> 0 | N59: =Sites!N59*12 -> 0 | O59: =Sites!O59*12 -> 0 | P59: =Sites!P59*12 -> 2 | Q59: =Sites!Q59*12 -> 0 | R59: =Sites!R59*12 -> 1 | S59: =Sites!S59*12 -> 0 | T59: =Sites!T59*12 -> 0 | ... AV59: =Sites!AV59*12 -> 0
... A65: =Sites!A65 -> GAU | B65: =Sites!B65 -> Wispeco | C65: =Sites!C65 -> 3 | D65: =Sites!D65*12 -> 288 | E65: =Sites!E65*12 -> 0 | F65: =Sites!F65*12 -> 0 | G65: =Sites!G65*12 -> 0 | H65: =Sites!H65*12 -> 0 | I65: =Sites!I65*12 -> 0 | J65: =Sites!J65*12 -> 0 | L65: 240 | M65: =Sites!M65*12 -> 0 | N65: =Sites!N65*12 -> 0 | O65: =Sites!O65*12 -> 0 | P65: =Sites!P65*12 -> 3 | Q65: =Sites!Q65*12 -> 0 | R65: =Sites!R65*12 -> 1.5 | S65: =Sites!S65*12 -> 0 | T65: =Sites!T65*12 -> 0 | ... AV65: =Sites!AV65*12 -> 24
A66: =Sites!A66 -> GAU | B66: =Sites!B66 -> Reflaline | C66: =Sites!C66 -> 1 | D66: =Sites!D66*12 -> 72 | E66: =Sites!E66*12 -> 0 | F66: =Sites!F66*12 -> 0 | G66: =Sites!G66*12 -> 0 | H66: =Sites!H66*12 -> 0 | I66: =Sites!I66*12 -> 0 | J66: =Sites!J66*12 -> 0 | K66: =Sites!K66*12 -> 0 | ... AV66: =Sites!AV66*12 -> 0
A67: =Sites!A67 -> GAU | B67: =Sites!B67 -> AVON DC | C67: =Sites!C67 -> 2 | D67: =Sites!D67*12 -> 144 | E67: =Sites!E67*12 -> 0 | F67: =Sites!F67*12 -> 0 | G67: =Sites!G67*12 -> 0 | H67: =Sites!H67*12 -> 0 | I67: =Sites!I67*12 -> 0 | J67: =Sites!J67*12 -> 0 | K67: =Sites!K67*12 -> 0 | ... AV67: =Sites!AV67*12 -> 0
A68: =Sites!A68 -> GAU | B68: =Sites!B68 -> Aberdare Jhb | C68: =Sites!C68 -> 1 | D68: =Sites!D68*12 -> 72 | E68: =Sites!E68*12 -> 0 | F68: =Sites!F68*12 -> 0 | G68: =Sites!G68*12 -> 0 | H68: =Sites!H68*12 -> 0 | I68: =Sites!I68*12 -> 0 | J68: =Sites!J68*12 -> 0 | K68: =Sites!K68*12 -> 0 | ... AV68: =Sites!AV68*12 -> 0
A69: =Sites!A69 -> GAU | B69: =Sites!B69 -> Sephako Delmas | C69: =Sites!C69 -> 3 | D69: =Sites!D69*12 -> 180 | E69: =Sites!E69*12 -> 0 | F69: =Sites!F69*12 -> 0 | G69: =Sites!G69*12 -> 0 | H69: =Sites!H69*12 -> 0 | I69: =Sites!I69*12 -> 0 | J69: =Sites!J69*12 -> 0 | K69: =Sites!K69*12 -> 0 | ... AV69: =Sites!AV69*12 -> 0
A70: =Sites!A70 -> GAU | B70: =Sites!B70 -> Seton | C70: =Sites!C70 -> 5 | D70: =Sites!D70*12 -> 240 | E70: =Sites!E70*12 -> 0 | F70: =Sites!F70*12 -> 0 | G70: =Sites!G70*12 -> 0 | H70: =Sites!H70*12 -> 0 | I70: =Sites!I70*12 -> 0 | J70: =Sites!J70*12 -> 0 | K70: =Sites!K70*12 -> 0 | ... AV70: =Sites!AV70*12 -> 0
A71: =Sites!A71 -> GAU | B71: =Sites!B71 -> Impala Platinum | C71: =Sites!C71 -> 3 | D71: =Sites!D71*12 -> 72 | E71: =Sites!E71*12 -> 0 | F71: =Sites!F71*12 -> 0 | G71: =Sites!G71*12 -> 0 | H71: =Sites!H71*12 -> 0 | I71: =Sites!I71*12 -> 0 | J71: =Sites!J71*12 -> 0 | K71: =Sites!K71*12 -> 0 | ... AV71: =Sites!AV71*12 -> 0
A72: =Sites!A72 -> GAU | B72: =Sites!B72 -> Mpact Mill | C72: =Sites!C72 -> 10 | D72: =Sites!D72*12 -> 360 | E72: =Sites!E72*12 -> 0 | F72: =Sites!F72*12 -> 0 | G72: =Sites!G72*12 -> 0 | H72: =Sites!H72*12 -> 0 | I72: =Sites!I72*12 -> 0 | J72: =Sites!J72*12 -> 0 | K72: =Sites!K72*12 -> 0 | ... AV72: =Sites!AV72*12 -> 0
A73: =Sites!A73 -> GAU | B73: =Sites!B73 -> Inhle Beverages | C73: =Sites!C73 -> 3 | D73: =Sites!D73*12 -> 180 | E73: =Sites!E73*12 -> 0 | F73: =Sites!F73*12 -> 0 | G73: =Sites!G73*12 -> 60 | H73: =Sites!H73*12 -> 0 | I73: =Sites!I73*12 -> 0 | J73: =Sites!J73*12 -> 0 | K73: =Sites!K73*12 -> 0 | ... AV73: =Sites!AV73*12 -> 0
A74: =Sites!A74 -> GAU | B74: =Sites!B74 -> AGL | C74: =Sites!C74 -> 1 | D74: =Sites!D74*12 -> 72 | E74: =Sites!E74*12 -> 0 | F74: =Sites!F74*12 -> 0 | G74: =Sites!G74*12 -> 0 | H74: =Sites!H74*12 -> 0 | I74: =Sites!I74*12 -> 0 | J74: =Sites!J74*12 -> 0 | K74: =Sites!K74*12 -> 0 | ... AV74: =Sites!AV74*12 -> 0
A75: =Sites!A75 -> GAU | B75: =Sites!B75 -> Phillip Morris | C75: =Sites!C75 -> 1 | D75: =Sites!D75*12 -> 72 | E75: =Sites!E75*12 -> 0 | F75: =Sites!F75*12 -> 0 | G75: =Sites!G75*12 -> 0 | H75: =Sites!H75*12 -> 0 | I75: =Sites!I75*12 -> 0 | J75: =Sites!J75*12 -> 0 | K75: =Sites!K75*12 -> 0 | ... AV75: =Sites!AV75*12 -> 0
A76: =Sites!A76 -> GAU | B76: =Sites!B76 -> Sodexo | C76: =Sites!C76 -> 3 | D76: =Sites!D76*12 -> 144 | E76: =Sites!E76*12 -> 0 | F76: =Sites!F76*12 -> 0 | G76: =Sites!G76*12 -> 0 | H76: =Sites!H76*12 -> 0 | I76: =Sites!I76*12 -> 0 | J76: =Sites!J76*12 -> 0 | K76: =Sites!K76*12 -> 0 | ... AV76: =Sites!AV76*12 -> 0
A77: =Sites!A77 -> GAU | B77: =Sites!B77 -> Rheinmetal Denelmunition | C77: =Sites!C77 -> 1 | D77: =Sites!D77*12 -> 48 | E77: =Sites!E77*12 -> 0 | F77: =Sites!F77*12 -> 0 | G77: =Sites!G77*12 -> 0 | H77: =Sites!H77*12 -> 0 | I77: =Sites!I77*12 -> 0 | J77: =Sites!J77*12 -> 0 | K77: =Sites!K77*12 -> 0 | ... AV77: =Sites!AV77*12 -> 0
... A135: =Sites!A135 -> KZN | B135: =Sites!B135 -> MSSL | C135: =Sites!C135 -> 2 | D135: =Sites!D135*12 -> 96 | E135: =Sites!E135*12 -> 0 | F135: =Sites!F135*12 -> 0 | G135: =Sites!G135*12 -> 0 | H135: =Sites!H135*12 -> 0 | I135: =Sites!I135*12 -> 0 | J135: =Sites!J135*12 -> 0 | K135: =Sites!K135*12 -> 0 | ... AV135: =Sites!AV135*12 -> 0
A136: =Sites!A136 -> KZN | B136: =Sites!B136 -> Sasko Mill/Rice | C136: =Sites!C136 -> 1 | D136: =Sites!D136*12 -> 48 | E136: =Sites!E136*12 -> 0 | F136: =Sites!F136*12 -> 0 | G136: =Sites!G136*12 -> 0 | H136: =Sites!H136*12 -> 0 | I136: =Sites!I136*12 -> 0 | J136: =Sites!J136*12 -> 0 | L136: 48 | M136: =Sites!M136*12 -> 0 | N136: =Sites!N136*12 -> 0 | O136: =Sites!O136*12 -> 0 | P136: =Sites!P136*12 -> 1 | Q136: =Sites!Q136*12 -> 0 | R136: =Sites!R136*12 -> 0.5 | S136: =Sites!S136*12 -> 0 | T136: =Sites!T136*12 -> 0 | ... AV136: =Sites!AV136*12 -> 0
A137: =Sites!A137 -> KZN | B137: =Sites!B137 -> Albany | C137: =Sites!C137 -> 1 | D137: =Sites!D137*12 -> 48 | E137: =Sites!E137*12 -> 0 | F137: =Sites!F137*12 -> 0 | G137: =Sites!G137*12 -> 0 | H137: =Sites!H137*12 -> 0 | I137: =Sites!I137*12 -> 0 | J137: =Sites!J137*12 -> 0 | K137: =Sites!K137*12 -> 0 | ... AV137: =Sites!AV137*12 -> 0
A138: =Sites!A138 -> KZN | B138: =Sites!B138 -> Entyce | C138: =Sites!C138 -> 5 | D138: =Sites!D138*12 -> 240 | E138: =Sites!E138*12 -> 0 | F138: =Sites!F138*12 -> 0 | G138: =Sites!G138*12 -> 0 | H138: =Sites!H138*12 -> 0 | I138: =Sites!I138*12 -> 0 | J138: =Sites!J138*12 -> 0 | K138: =Sites!K138*12 -> 0 | ... AV138: =Sites!AV138*12 -> 0
A139: =Sites!A139 -> KZN | B139: =Sites!B139 -> Grindrod | C139: =Sites!C139 -> 1 | D139: =Sites!D139*12 -> 48 | E139: =Sites!E139*12 -> 0 | F139: =Sites!F139*12 -> 0 | G139: =Sites!G139*12 -> 0 | H139: =Sites!H139*12 -> 0 | I139: =Sites!I139*12 -> 0 | J139: =Sites!J139*12 -> 0 | K139: =Sites!K139*12 -> 0 | ... AV139: =Sites!AV139*12 -> 0
A140: =Sites!A140 -> KZN | B140: =Sites!B140 -> Chemical Initiative | C140: =Sites!C140 -> 1 | D140: =Sites!D140*12 -> 48 | E140: =Sites!E140*12 -> 0 | F140: =Sites!F140*12 -> 0 | G140: =Sites!G140*12 -> 48 | H140: =Sites!H140*12 -> 0 | I140: =Sites!I140*12 -> 0 | J140: =Sites!J140*12 -> 0 | K140: =Sites!K140*12 -> 48 | ... AV140: =Sites!AV140*12 -> 0
A141: =Sites!A141 -> KZN | B141: =Sites!B141 -> Illovo Syrup | C141: =Sites!C141 -> 1 | D141: =Sites!D141*12 -> 48 | E141: =Sites!E141*12 -> 0 | F141: =Sites!F141*12 -> 0 | G141: =Sites!G141*12 -> 0 | H141: =Sites!H141*12 -> 0 | I141: =Sites!I141*12 -> 0 | J141: =Sites!J141*12 -> 0 | K141: =Sites!K141*12 -> 0 | ... AV141: =Sites!AV141*12 -> 0
A142: =Sites!A142 -> KZN | B142: =Sites!B142 -> Illovo Sezela | C142: =Sites!C142 -> 5 | D142: =Sites!D142*12 -> 240 | E142: =Sites!E142*12 -> 0 | F142: =Sites!F142*12 -> 0 | G142: =Sites!G142*12 -> 0 | H142: =Sites!H142*12 -> 0 | I142: =Sites!I142*12 -> 0 | J142: =Sites!J142*12 -> 0 | K142: =Sites!K142*12 -> 0 | ... AV142: =Sites!AV142*12 -> 0
A143: =Sites!A143 -> KZN | B143: =Sites!B143 -> Premier Durban | C143: =Sites!C143 -> 3 | D143: =Sites!D143*12 -> 144 | E143: =Sites!E143*12 -> 0 | F143: =Sites!F143*12 -> 0 | G143: =Sites!G143*12 -> 0 | H143: =Sites!H143*12 -> 0 | I143: =Sites!I143*12 -> 0 | J143: =Sites!J143*12 -> 0 | K143: =Sites!K143*12 -> 0 | ... AV143: =Sites!AV143*12 -> 0
A144: =Sites!A144 -> KZN | B144: =Sites!B144 -> Jokels | C144: =Sites!C144 -> 1 | D144: =Sites!D144*12 -> 48 | E144: =Sites!E144*12 -> 0 | F144: =Sites!F144*12 -> 0 | G144: =Sites!G144*12 -> 0 | H144: =Sites!H144*12 -> 0 | I144: =Sites!I144*12 -> 0 | J144: =Sites!J144*12 -> 0 | K144: =Sites!K144*12 -> 0 | ... AV144: =Sites!AV144*12 -> 0
A145: =Sites!A145 -> KZN | B145: =Sites!B145 -> Man Truck Assembly | C145: =Sites!C145 -> 2 | D145: =Sites!D145*12 -> 96 | E145: =Sites!E145*12 -> 0 | F145: =Sites!F145*12 -> 0 | G145: =Sites!G145*12 -> 0 | H145: =Sites!H145*12 -> 0 | I145: =Sites!I145*12 -> 0 | J145: =Sites!J145*12 -> 0 | K145: =Sites!K145*12 -> 0 | ... AV145: =Sites!AV145*12 -> 0
A146: =Sites!A146 -> KZN | B146: =Sites!B146 -> Eskom Newgermany | C146: =Sites!C146 -> 1 | D146: =Sites!D146*12 -> 48 | E146: =Sites!E146*12 -> 0 | F146: =Sites!F146*12 -> 0 | G146: =Sites!G146*12 -> 0 | H146: =Sites!H146*12 -> 0 | I146: =Sites!I146*12 -> 0 | J146: =Sites!J146*12 -> 0 | K146: =Sites!K146*12 -> 0 | ... AV146: =Sites!AV146*12 -> 0
A147: =Sites!A147 -> KZN | B147: =Sites!B147 -> Geochem | C147: =Sites!C147 -> 1 | D147: =Sites!D147*12 -> 48 | E147: =Sites!E147*12 -> 0 | F147: =Sites!F147*12 -> 0 | G147: =Sites!G147*12 -> 24 | H147: =Sites!H147*12 -> 0 | I147: =Sites!I147*12 -> 0 | J147: =Sites!J147*12 -> 0 | L147: 48 | M147: =Sites!M147*12 -> 0 | N147: =Sites!N147*12 -> 0 | O147: =Sites!O147*12 -> 0 | P147: =Sites!P147*12 -> 1 | Q147: =Sites!Q147*12 -> 0 | R147: =Sites!R147*12 -> 0.5 | S147: =Sites!S147*12 -> 0 | T147: =Sites!T147*12 -> 0 | ... AV147: =Sites!AV147*12 -> 0
A148: =Sites!A148 -> KZN | B148: =Sites!B148 -> Intergrated Polyprop | C148: =Sites!C148 -> 1 | D148: =Sites!D148*12 -> 48 | E148: =Sites!E148*12 -> 0 | F148: =Sites!F148*12 -> 0 | G148: =Sites!G148*12 -> 0 | H148: =Sites!H148*12 -> 0 | I148: =Sites!I148*12 -> 0 | J148: =Sites!J148*12 -> 0 | K148: =Sites!K148*12 -> 0 | ... AV148: =Sites!AV148*12 -> 0
A149: =Sites!A149 -> KZN | B149: =Sites!B149 -> MAN PMB | C149: =Sites!C149 -> 1 | D149: =Sites!D149*12 -> 48 | E149: =Sites!E149*12 -> 0 | F149: =Sites!F149*12 -> 0 | G149: =Sites!G149*12 -> 0 | H149: =Sites!H149*12 -> 0 | I149: =Sites!I149*12 -> 0 | J149: =Sites!J149*12 -> 0 | K149: =Sites!K149*12 -> 0 | ... AV149: =Sites!AV149*12 -> 0
A150: =Sites!A150 -> KZN | B150: =Sites!B150 -> DYSTAR | C150: =Sites!C150 -> 1 | D150: =Sites!D150*12 -> 48 | E150: =Sites!E150*12 -> 0 | F150: =Sites!F150*12 -> 0 | G150: =Sites!G150*12 -> 0 | H150: =Sites!H150*12 -> 0 | I150: =Sites!I150*12 -> 0 | J150: =Sites!J150*12 -> 0 | L150: 48 | M150: =Sites!M150*12 -> 0 | N150: =Sites!N150*12 -> 0 | O150: =Sites!O150*12 -> 0 | P150: =Sites!P150*12 -> 1 | Q150: =Sites!Q150*12 -> 0 | R150: =Sites!R150*12 -> 0.5 | S150: =Sites!S150*12 -> 0 | T150: =Sites!T150*12 -> 0 | ... AV150: =Sites!AV150*12 -> 0
A151: =Sites!A151 -> KZN | B151: =Sites!B151 -> PROVIMI | C151: =Sites!C151 -> 1 | D151: =Sites!D151*12 -> 48 | E151: =Sites!E151*12 -> 0 | F151: =Sites!F151*12 -> 0 | G151: =Sites!G151*12 -> 0 | H151: =Sites!H151*12 -> 0 | I151: =Sites!I151*12 -> 0 | J151: =Sites!J151*12 -> 0 | K151: =Sites!K151*12 -> 0 | ... AV151: =Sites!AV151*12 -> 0
A152: =Sites!A152 -> KZN | B152: =Sites!B152 -> ESKOM MKONDENI | C152: =Sites!C152 -> 1 | D152: =Sites!D152*12 -> 48 | E152: =Sites!E152*12 -> 0 | F152: =Sites!F152*12 -> 0 | G152: =Sites!G152*12 -> 0 | H152: =Sites!H152*12 -> 0 | I152: =Sites!I152*12 -> 0 | J152: =Sites!J152*12 -> 0 | K152: =Sites!K152*12 -> 0 | ... AV152: =Sites!AV152*12 -> 0
A153: =Sites!A153 -> KZN | B153: =Sites!B153 -> Abadare Cables | C153: =Sites!C153 -> 5 | D153: =Sites!D153*12 -> 240 | E153: =Sites!E153*12 -> 0 | F153: =Sites!F153*12 -> 0 | G153: =Sites!G153*12 -> 0 | H153: =Sites!H153*12 -> 0 | I153: =Sites!I153*12 -> 0 | J153: =Sites!J153*12 -> 0 | K153: =Sites!K153*12 -> 0 | ... AV153: =Sites!AV153*12 -> 0
A154: =Sites!A154 -> KZN | B154: =Sites!B154 -> Dunlop Howick | C154: =Sites!C154 -> 3 | D154: =Sites!D154*12 -> 144 | E154: =Sites!E154*12 -> 0 | F154: =Sites!F154*12 -> 0 | G154: =Sites!G154*12 -> 0 | H154: =Sites!H154*12 -> 0 | I154: =Sites!I154*12 -> 0 | J154: =Sites!J154*12 -> 0 | K154: =Sites!K154*12 -> 144 | ... AV154: =Sites!AV154*12 -> 0
A155: =Sites!A155 -> KZN | B155: =Sites!B155 -> Hilton Collage | C155: =Sites!C155 -> 2 | D155: =Sites!D155*12 -> 96 | E155: =Sites!E155*12 -> 0 | F155: =Sites!F155*12 -> 0 | G155: =Sites!G155*12 -> 24 | H155: =Sites!H155*12 -> 0 | I155: =Sites!I155*12 -> 0 | J155: =Sites!J155*12 -> 0 | K155: =Sites!K155*12 -> 0 | ... AV155: =Sites!AV155*12 -> 0
A156: =Sites!A156 -> KZN | B156: =Sites!B156 -> Lipton Tea(Ekaterra) | C156: =Sites!C156 -> 4 | D156: =Sites!D156*12 -> 192 | E156: =Sites!E156*12 -> 0 | F156: =Sites!F156*12 -> 0 | G156: =Sites!G156*12 -> 0 | H156: =Sites!H156*12 -> 0 | I156: =Sites!I156*12 -> 0 | J156: =Sites!J156*12 -> 0 | K156: =Sites!K156*12 -> 0 | ... AV156: =Sites!AV156*12 -> 0
A157: =Sites!A157 -> KZN | B157: =Sites!B157 -> Snackworks | C157: =Sites!C157 -> 7 | D157: =Sites!D157*12 -> 336 | E157: =Sites!E157*12 -> 0 | F157: =Sites!F157*12 -> 0 | G157: =Sites!G157*12 -> 0 | H157: =Sites!H157*12 -> 0 | I157: =Sites!I157*12 -> 0 | J157: =Sites!J157*12 -> 0 | K157: =Sites!K157*12 -> 0 | ... AV157: =Sites!AV157*12 -> 0
A158: =Sites!A158 -> KZN | B158: =Sites!B158 -> Isegen | C158: =Sites!C158 -> 3 | D158: =Sites!D158*12 -> 144 | E158: =Sites!E158*12 -> 0 | F158: =Sites!F158*12 -> 0 | G158: =Sites!G158*12 -> 0 | H158: =Sites!H158*12 -> 0 | I158: =Sites!I158*12 -> 0 | J158: =Sites!J158*12 -> 0 | L158: 144 | M158: =Sites!M158*12 -> 0 | N158: =Sites!N158*12 -> 0 | O158: =Sites!O158*12 -> 0 | P158: =Sites!P158*12 -> 3 | Q158: =Sites!Q158*12 -> 0 | R158: =Sites!R158*12 -> 1.5 | S158: =Sites!S158*12 -> 0 | T158: =Sites!T158*12 -> 0 | ... AV158: =Sites!AV158*12 -> 0
A159: =Sites!A159 -> KZN | B159: =Sites!B159 -> Total | C159: =Sites!C159 -> 1 | D159: =Sites!D159*12 -> 48 | E159: =Sites!E159*12 -> 0 | F159: =Sites!F159*12 -> 0 | G159: =Sites!G159*12 -> 0 | H159: =Sites!H159*12 -> 0 | I159: =Sites!I159*12 -> 0 | J159: =Sites!J159*12 -> 0 | K159: =Sites!K159*12 -> 0 | ... AV159: =Sites!AV159*12 -> 0
A160: =Sites!A160 -> KZN | B160: =Sites!B160 -> Mac Steel | C160: =Sites!C160 -> 1 | D160: =Sites!D160*12 -> 48 | E160: =Sites!E160*12 -> 0 | F160: =Sites!F160*12 -> 0 | G160: =Sites!G160*12 -> 0 | H160: =Sites!H160*12 -> 0 | I160: =Sites!I160*12 -> 0 | J160: =Sites!J160*12 -> 0 | K160: =Sites!K160*12 -> 0 | ... AV160: =Sites!AV160*12 -> 0
A161: =Sites!A161 -> KZN | B161: =Sites!B161 -> Toyota Ogihara | C161: =Sites!C161 -> 1 | D161: =Sites!D161*12 -> 48 | E161: =Sites!E161*12 -> 0 | F161: =Sites!F161*12 -> 0 | G161: =Sites!G161*12 -> 0 | H161: =Sites!H161*12 -> 0 | I161: =Sites!I161*12 -> 0 | J161: =Sites!J161*12 -> 0 | K161: =Sites!K161*12 -> 0 | ... AV161: =Sites!AV161*12 -> 0
A162: =Sites!A162 -> KZN | B162: =Sites!B162 -> Federal Mogul | C162: =Sites!C162 -> 1 | D162: =Sites!D162*12 -> 48 | E162: =Sites!E162*12 -> 0 | F162: =Sites!F162*12 -> 0 | G162: =Sites!G162*12 -> 0 | H162: =Sites!H162*12 -> 0 | I162: =Sites!I162*12 -> 0 | J162: =Sites!J162*12 -> 0 | K162: =Sites!K162*12 -> 0 | ... AV162: =Sites!AV162*12 -> 0
A163: =Sites!A163 -> KZN | B163: =Sites!B163 -> Premier Pinetown | C163: =Sites!C163 -> 1 | D163: =Sites!D163*12 -> 48 | E163: =Sites!E163*12 -> 0 | F163: =Sites!F163*12 -> 0 | G163: =Sites!G163*12 -> 0 | H163: =Sites!H163*12 -> 0 | I163: =Sites!I163*12 -> 0 | J163: =Sites!J163*12 -> 0 | K163: =Sites!K163*12 -> 0 | ... AV163: =Sites!AV163*12 -> 0
A164: =Sites!A164 -> KZN | B164: =Sites!B164 -> Servest | C164: =Sites!C164 -> 1 | D164: =Sites!D164*12 -> 48 | E164: =Sites!E164*12 -> 0 | F164: =Sites!F164*12 -> 0 | G164: =Sites!G164*12 -> 0 | H164: =Sites!H164*12 -> 0 | I164: =Sites!I164*12 -> 0 | J164: =Sites!J164*12 -> 0 | K164: =Sites!K164*12 -> 0 | ... AV164: =Sites!AV164*12 -> 0
A165: =Sites!A165 -> KZN | B165: =Sites!B165 -> Verigreen | C165: =Sites!C165 -> 1 | D165: =Sites!D165*12 -> 48 | E165: =Sites!E165*12 -> 0 | F165: =Sites!F165*12 -> 0 | G165: =Sites!G165*12 -> 0 | H165: =Sites!H165*12 -> 0 | I165: =Sites!I165*12 -> 0 | J165: =Sites!J165*12 -> 0 | K165: =Sites!K165*12 -> 0 | ... AV165: =Sites!AV165*12 -> 0
A166: =Sites!A166 -> KZN | B166: =Sites!B166 -> Westham Bakkery | C166: =Sites!C166 -> 0 | D166: =Sites!D166*12 -> 0 | E166: =Sites!E166*12 -> 0 | F166: =Sites!F166*12 -> 0 | G166: =Sites!G166*12 -> 0 | H166: =Sites!H166*12 -> 0 | I166: =Sites!I166*12 -> 0 | J166: =Sites!J166*12 -> 0 | K166: =Sites!K166*12 -> 0 | ... AV166: =Sites!AV166*12 -> 0
A167: =Sites!A167 -> KZN | B167: =Sites!B167 -> Club Med | C167: =Sites!C167 -> 5 | D167: =Sites!D167*12 -> 240 | E167: =Sites!E167*12 -> 0 | F167: =Sites!F167*12 -> 0 | G167: =Sites!G167*12 -> 0 | H167: =Sites!H167*12 -> 0 | I167: =Sites!I167*12 -> 0 | J167: =Sites!J167*12 -> 0 | K167: =Sites!K167*12 -> 0 | ... AV167: =Sites!AV167*12 -> 0
A168: =Sites!A168 -> KZN | B168: =Sites!B168 -> Swan Plastics | C168: =Sites!C168 -> 1 | D168: =Sites!D168*12 -> 48 | E168: =Sites!E168*12 -> 0 | F168: =Sites!F168*12 -> 0 | G168: =Sites!G168*12 -> 0 | H168: =Sites!H168*12 -> 0 | I168: =Sites!I168*12 -> 0 | J168: =Sites!J168*12 -> 0 | K168: =Sites!K168*12 -> 0 | ... AV168: =Sites!AV168*12 -> 0
A169: =Sites!A169 -> KZN | B169: =Sites!B169 -> Man Dealership | C169: =Sites!C169 -> 1 | D169: =Sites!D169*12 -> 48 | E169: =Sites!E169*12 -> 0 | F169: =Sites!F169*12 -> 0 | G169: =Sites!G169*12 -> 0 | H169: =Sites!H169*12 -> 0 | I169: =Sites!I169*12 -> 0 | J169: =Sites!J169*12 -> 0 | K169: =Sites!K169*12 -> 0 | ... AV169: =Sites!AV169*12 -> 0
A170: =Sites!A170 -> KZN | B170: =Sites!B170 -> BUSAMED HILLCREST | C170: =Sites!C170 -> 2 | D170: =Sites!D170*12 -> 96 | E170: =Sites!E170*12 -> 0 | F170: =Sites!F170*12 -> 0 | G170: =Sites!G170*12 -> 0 | H170: =Sites!H170*12 -> 0 | I170: =Sites!I170*12 -> 0 | J170: =Sites!J170*12 -> 0 | L170: 96 | M170: =Sites!M170*12 -> 0 | N170: =Sites!N170*12 -> 0 | O170: =Sites!O170*12 -> 0 | P170: =Sites!P170*12 -> 2 | Q170: =Sites!Q170*12 -> 0 | R170: =Sites!R170*12 -> 1 | S170: =Sites!S170*12 -> 0 | T170: =Sites!T170*12 -> 0 | ... AV170: =Sites!AV170*12 -> 0
A171: =Sites!A171 -> KZN | B171: =Sites!B171 -> BUSAMED UMHLANGA | C171: =Sites!C171 -> 1 | D171: =Sites!D171*12 -> 48 | E171: =Sites!E171*12 -> 0 | F171: =Sites!F171*12 -> 0 | G171: =Sites!G171*12 -> 0 | H171: =Sites!H171*12 -> 0 | I171: =Sites!I171*12 -> 0 | J171: =Sites!J171*12 -> 0 | L171: 48 | M171: =Sites!M171*12 -> 0 | N171: =Sites!N171*12 -> 0 | O171: =Sites!O171*12 -> 0 | P171: =Sites!P171*12 -> 1 | Q171: =Sites!Q171*12 -> 0 | R171: =Sites!R171*12 -> 0.5 | S171: =Sites!S171*12 -> 0 | T171: =Sites!T171*12 -> 0 | ... AV171: =Sites!AV171*12 -> 0
A172: =Sites!A172 -> KZN | B172: =Sites!B172 -> ND Engineering | C172: =Sites!C172 -> 1 | D172: =Sites!D172*12 -> 0 | E172: =Sites!E172*12 -> 0 | F172: =Sites!F172*12 -> 0 | G172: =Sites!G172*12 -> 0 | H172: =Sites!H172*12 -> 0 | I172: =Sites!I172*12 -> 0 | J172: =Sites!J172*12 -> 0 | K172: =Sites!K172*12 -> 0 | ... AV172: =Sites!AV172*12 -> 0
A173: =Sites!A173 -> ECA | B173: =Sites!B173 -> St Dominic | C173: =Sites!C173 -> 1 | D173: =Sites!D173*12 -> 12 | E173: =Sites!E173*12 -> 0 | F173: =Sites!F173*12 -> 0 | G173: =Sites!G173*12 -> 0 | H173: =Sites!H173*12 -> 0 | I173: =Sites!I173*12 -> 0 | J173: =Sites!J173*12 -> 0 | K173: =Sites!K173*12 -> 0 | ... AV173: =Sites!AV173*12 -> 0
A174: =Sites!A174 -> ECA | B174: =Sites!B174 -> Premier Food | C174: =Sites!C174 -> 3 | D174: =Sites!D174*12 -> 12 | E174: =Sites!E174*12 -> 0 | F174: =Sites!F174*12 -> 0 | G174: =Sites!G174*12 -> 0 | H174: =Sites!H174*12 -> 0 | I174: =Sites!I174*12 -> 0 | J174: =Sites!J174*12 -> 0 | K174: =Sites!K174*12 -> 0 | ... AV174: =Sites!AV174*12 -> 0
A175: =Sites!A175 -> ECA | B175: =Sites!B175 -> FNB BVR1 | C175: =Sites!C175 -> 1 | D175: =Sites!D175*12 -> 0 | E175: =Sites!E175*12 -> 0 | F175: =Sites!F175*12 -> 0 | G175: =Sites!G175*12 -> 0 | H175: =Sites!H175*12 -> 12 | I175: =Sites!I175*12 -> 0 | J175: =Sites!J175*12 -> 0 | K175: =Sites!K175*12 -> 0 | ... AV175: =Sites!AV175*12 -> 0
A176: =Sites!A176 -> ECA | B176: =Sites!B176 -> FNB Settlersway | C176: =Sites!C176 -> 1 | D176: =Sites!D176*12 -> 12 | E176: =Sites!E176*12 -> 0 | F176: =Sites!F176*12 -> 0 | G176: =Sites!G176*12 -> 0 | H176: =Sites!H176*12 -> 0 | I176: =Sites!I176*12 -> 0 | J176: =Sites!J176*12 -> 0 | K176: =Sites!K176*12 -> 0 | ... AV176: =Sites!AV176*12 -> 0
A177: =Sites!A177 -> ECA | B177: =Sites!B177 -> CHEP SA | C177: =Sites!C177 -> 1 | D177: =Sites!D177*12 -> 0 | E177: =Sites!E177*12 -> 12 | F177: =Sites!F177*12 -> 0 | G177: =Sites!G177*12 -> 0 | H177: =Sites!H177*12 -> 0 | I177: =Sites!I177*12 -> 0 | J177: =Sites!J177*12 -> 0 | K177: =Sites!K177*12 -> 0 | ... AV177: =Sites!AV177*12 -> 0
A178: =Sites!A178 -> ECA | B178: =Sites!B178 -> YangFen L/Broker | C178: =Sites!C178 -> 1 | D178: =Sites!D178*12 -> 12 | E178: =Sites!E178*12 -> 0 | F178: =Sites!F178*12 -> 0 | G178: =Sites!G178*12 -> 0 | H178: =Sites!H178*12 -> 0 | I178: =Sites!I178*12 -> 0 | J178: =Sites!J178*12 -> 0 | K178: =Sites!K178*12 -> 0 | ... AV178: =Sites!AV178*12 -> 0
A179: =Sites!A179 -> ECA | B179: =Sites!B179 -> Engen Petroleum | C179: =Sites!C179 -> 1 | D179: =Sites!D179*12 -> 12 | E179: =Sites!E179*12 -> 0 | F179: =Sites!F179*12 -> 0 | G179: =Sites!G179*12 -> 0 | H179: =Sites!H179*12 -> 0 | I179: =Sites!I179*12 -> 0 | J179: =Sites!J179*12 -> 0 | K179: =Sites!K179*12 -> 0 | ... AV179: =Sites!AV179*12 -> 0
A180: =Sites!A180 -> ECA | B180: =Sites!B180 -> Stormberg | C180: =Sites!C180 -> 1 | D180: =Sites!D180*12 -> 144 | E180: =Sites!E180*12 -> 0 | F180: =Sites!F180*12 -> 0 | G180: =Sites!G180*12 -> 0 | H180: =Sites!H180*12 -> 36 | I180: =Sites!I180*12 -> 0 | J180: =Sites!J180*12 -> 0 | K180: =Sites!K180*12 -> 0 | ... AV180: =Sites!AV180*12 -> 0
A181: =Sites!A181 -> ECA | B181: =Sites!B181 -> Orion | C181: =Sites!C181 -> 1 | D181: =Sites!D181*12 -> 144 | E181: =Sites!E181*12 -> 0 | F181: =Sites!F181*12 -> 0 | G181: =Sites!G181*12 -> 0 | H181: =Sites!H181*12 -> 36 | I181: =Sites!I181*12 -> 0 | J181: =Sites!J181*12 -> 0 | K181: =Sites!K181*12 -> 0 | ... AV181: =Sites!AV181*12 -> 12
A182: =Sites!A182 -> ECA | B182: =Sites!B182 -> Simba | C182: =Sites!C182 -> 1 | D182: =Sites!D182*12 -> 144 | E182: =Sites!E182*12 -> 0 | F182: =Sites!F182*12 -> 0 | G182: =Sites!G182*12 -> 0 | H182: =Sites!H182*12 -> 0 | I182: =Sites!I182*12 -> 0 | J182: =Sites!J182*12 -> 0 | K182: =Sites!K182*12 -> 0 | ... AV182: =Sites!AV182*12 -> 0
A183: =Sites!A183 -> ECA | B183: =Sites!B183 -> Schaeffler | C183: =Sites!C183 -> 1 | D183: =Sites!D183*12 -> 144 | E183: =Sites!E183*12 -> 0 | F183: =Sites!F183*12 -> 0 | G183: =Sites!G183*12 -> 0 | H183: =Sites!H183*12 -> 36 | I183: =Sites!I183*12 -> 0 | J183: =Sites!J183*12 -> 0 | K183: =Sites!K183*12 -> 0 | ... AV183: =Sites!AV183*12 -> 12
...
