Workbook

Sheet Sites
A1: NATIONAL ON-SITE MONTHLY PPE REQUIREMENT | D1: GLOVES | J1: MASKS | P1: CLOTHING | AD1: EYE & FACE | AI1: FEET | AL1: HEAD | AR1: EAR | AT1: OTHER
A2: Region | B2: Site | C2: Staff | D2: Gripper "Crayfish" Gloves | E2: Cut resistant Level 5 Gloves | F2: Welders Gloves | G2: PVC Gloves | H2: PVC elbow length glove | I2: Surgical Gloves | J2: Surgical Masks | K2: Dust Mask FFP3 | L2: Dust Mask FFP2 | M2: 3M Half Mask respirator | N2: 3M Half Mask respirator Cartages ABEK 1 | O2: 3M Half Mask retainer | P2: Reflective Vest - Orange with branding | Q2: Rain Suits Small to 3XL | R2: Winter Jackets Small to 3XL | S2: Serenex Dust Suits Small to 3 XL (White Suits) | T2: Overalls Trouser Flame and Acid retardant (Blue) | U2: Overalls Jacket Flame and Acid retardant (Blue) | V2: Overalls Trouser Flame and Acid retardant (Green) | W2: Overalls Jacket Flame and Acid retardant (Green) | X2: Overalls Trousers Acid Proof | Y2: Overall Jackets Acid Proof | Z2: Overalls Trousers Non Acid | AA2: Overall Jackets Non Acid | AB2: T- Shirts | AC2: Bee suits | AD2: Welding Goggles | AE2: Safety Goggles with elastic band | AF2: Safety Spoggles - Safety Eyewear | AG2: Standard sporty spectacles eyewear | AH2: Face Shield | AI2: Gum boots | AJ2: Safety Boots | AK2: Spats | AL2: Caps | AM2: Cricket Hats | AN2: Bump Caps | AO2: Hard hat orange brim | AP2: Hard Hats | AQ2: Chin straps | AR2: Ear Plugs - Corded | AS2: Ear Mufs | AT2: PVC Aprons - Heavy duty | AU2: Leather Apron | AV2: Kidney Belts
A3: GAU | B3: Aquazania | C3: 1 | D3: 4 | K3: 4 | P3: =(1/12)*C3 -> 0.083333333 | R3: =(1/24)*C3 -> 0.041666667 | Z3: =(3/12)*C3 -> 0.25 | AA3: =(3/12)*C3 -> 0.25 | AB3: =(3/12)*C3 -> 0.25 | AG3: =(4/12)*C3 -> 0.33333333 | AJ3: =(1.5/12)*C3 -> 0.125 | AL3: =(1/12)*C3 -> 0.083333333 | AP3: =(1/12)*C3 -> 0.083333333
A4: GAU | B4: Idemia | C4: 1 | D4: 4 | K4: 6 | P4: =(1/12)*C4 -> 0.083333333 | R4: =(1/24)*C4 -> 0.041666667 | Z4: =(3/12)*C4 -> 0.25 | AA4: =(3/12)*C4 -> 0.25 | AB4: =(3/12)*C4 -> 0.25 | AG4: =(4/12)*C4 -> 0.33333333 | AJ4: =(1.5/12)*C4 -> 0.125 | AL4: =(1/12)*C4 -> 0.083333333 | AP4: =(1/12)*C4 -> 0.083333333
A5: GAU | B5: Givaudan Linbro Park | C5: 1 | D5: 4 | K5: 6 | P5: =(1/12)*C5 -> 0.083333333 | R5: =(1/24)*C5 -> 0.041666667 | Z5: =(3/12)*C5 -> 0.25 | AA5: =(3/12)*C5 -> 0.25 | AB5: =(3/12)*C5 -> 0.25 | AG5: =(4/12)*C5 -> 0.33333333 | AJ5: =(1.5/12)*C5 -> 0.125 | AL5: =(1/12)*C5 -> 0.083333333 | AP5: =(1/12)*C5 -> 0.083333333
A6: GAU | B6: ALS Chemex | C6: 1 | D6: 4 | K6: 12 | P6: =(1/12)*C6 -> 0.083333333 | R6: =(1/24)*C6 -> 0.041666667 | Z6: =(3/12)*C6 -> 0.25 | AA6: =(3/12)*C6 -> 0.25 | AB6: =(3/12)*C6 -> 0.25 | AG6: =(4/12)*C6 -> 0.33333333 | AJ6: =(1.5/12)*C6 -> 0.125 | AL6: =(1/12)*C6 -> 0.083333333 | AP6: =(1/12)*C6 -> 0.083333333
A7: GAU | B7: Busamed | C7: 1 | D7: 4 | K7: 6 | P7: =(1/12)*C7 -> 0.083333333 | R7: =(1/24)*C7 -> 0.041666667 | Z7: =(3/12)*C7 -> 0.25 | AA7: =(3/12)*C7 -> 0.25 | AB7: =(3/12)*C7 -> 0.25 | AG7: =(4/12)*C7 -> 0.33333333 | AJ7: =(1.5/12)*C7 -> 0.125 | AL7: =(1/12)*C7 -> 0.083333333 | AP7: =(1/12)*C7 -> 0.083333333
A8: GAU | B8: Valemount | C8: 1 | D8: 4 | K8: 6 | P8: =(1/12)*C8 -> 0.083333333 | R8: =(1/24)*C8 -> 0.041666667 | Z8: =(3/12)*C8 -> 0.25 | AA8: =(3/12)*C8 -> 0.25 | AB8: =(3/12)*C8 -> 0.25 | AG8: =(4/12)*C8 -> 0.33333333 | AJ8: =(1.5/12)*C8 -> 0.125 | AL8: =(1/12)*C8 -> 0.083333333 | AP8: =(1/12)*C8 -> 0.083333333
A9: GAU | B9: Freedomwon | C9: 1 | D9: 4 | K9: 6 | P9: =(1/12)*C9 -> 0.083333333 | R9: =(1/24)*C9 -> 0.041666667 | Z9: =(3/12)*C9 -> 0.25 | AA9: =(3/12)*C9 -> 0.25 | AB9: =(3/12)*C9 -> 0.25 | AG9: =(4/12)*C9 -> 0.33333333 | AJ9: =(1.5/12)*C9 -> 0.125 | AL9: =(1/12)*C9 -> 0.083333333 | AP9: =(1/12)*C9 -> 0.083333333
A10: GAU | B10: The Country Pie | C10: 1 | P10: =(1/12)*C10 -> 0.083333333 | R10: =(1/24)*C10 -> 0.041666667 | Z10: =(3/12)*C10 -> 0.25 | AA10: =(3/12)*C10 -> 0.25 | AB10: =(3/12)*C10 -> 0.25 | AG10: =(4/12)*C10 -> 0.33333333 | AJ10: =(1.5/12)*C10 -> 0.125 | AL10: =(1/12)*C10 -> 0.083333333 | AP10: =(1/12)*C10 -> 0.083333333
A11: GAU | B11: Donaldson Filtration | C11: 1 | D11: 4 | K11: 6 | P11: =(1/12)*C11 -> 0.083333333 | R11: =(1/24)*C11 -> 0.041666667 | Z11: =(3/12)*C11 -> 0.25 | AA11: =(3/12)*C11 -> 0.25 | AB11: =(3/12)*C11 -> 0.25 | AG11: =(4/12)*C11 -> 0.33333333 | AJ11: =(1.5/12)*C11 -> 0.125 | AL11: =(1/12)*C11 -> 0.083333333 | AP11: =(1/12)*C11 -> 0.083333333
A12: GAU | B12: Chipkins | C12: 2 | D12: 8 | K12: 20 | P12: =(1/12)*C12 -> 0.16666667 | R12: =(1/24)*C12 -> 0.083333333 | S12: 16 | Z12: =(3/12)*C12 -> 0.5 | AA12: =(3/12)*C12 -> 0.5 | AB12: =(3/12)*C12 -> 0.5 | AC12: =(2/12) -> 0.16666667 | AG12: =(4/12)*C12 -> 0.66666667 | AJ12: =(1.5/12)*C12 -> 0.25 | AL12: =(1/12)*C12 -> 0.16666667 | AP12: =(1/12)*C12 -> 0.16666667
A13: GAU | B13: SAAB | C13: 1 | D13: 4 | K13: 8 | P13: =(1/12)*C13 -> 0.083333333 | R13: =(1/24)*C13 -> 0.041666667 | Z13: =(3/12)*C13 -> 0.25 | AA13: =(3/12)*C13 -> 0.25 | AB13: =(3/12)*C13 -> 0.25 | AG13: =(4/12)*C13 -> 0.33333333 | AJ13: =(1.5/12)*C13 -> 0.125 | AL13: =(1/12)*C13 -> 0.083333333 | AP13: =(1/12)*C13 -> 0.083333333
A14: GAU | B14: Premier Foods Lordsview | C14: 1 | D14: 4 | K14: 8 | P14: =(1/12)*C14 -> 0.083333333 | R14: =(1/24)*C14 -> 0.041666667 | Z14: =(3/12)*C14 -> 0.25 | AA14: =(3/12)*C14 -> 0.25 | AB14: =(3/12)*C14 -> 0.25 | AG14: =(4/12)*C14 -> 0.33333333 | AJ14: =(1.5/12)*C14 -> 0.125 | AL14: =(1/12)*C14 -> 0.083333333 | AP14: =(1/12)*C14 -> 0.083333333
A15: GAU | B15: Fresenius Kabi | C15: 1 | D15: 2 | K15: 4 | P15: =(1/12)*C15 -> 0.083333333 | R15: =(1/24)*C15 -> 0.041666667 | Z15: =(3/12)*C15 -> 0.25 | AA15: =(3/12)*C15 -> 0.25 | AB15: =(3/12)*C15 -> 0.25 | AG15: =(4/12)*C15 -> 0.33333333 | AJ15: =(1.5/12)*C15 -> 0.125 | AL15: =(1/12)*C15 -> 0.083333333 | AP15: =(1/12)*C15 -> 0.083333333
A16: GAU | B16: King Pie | C16: 1 | D16: 4 | K16: 8 | P16: =(1/12)*C16 -> 0.083333333 | R16: =(1/24)*C16 -> 0.041666667 | S16: 4 | Z16: =(3/12)*C16 -> 0.25 | AA16: =(3/12)*C16 -> 0.25 | AB16: =(3/12)*C16 -> 0.25 | AG16: =(4/12)*C16 -> 0.33333333 | AJ16: =(1.5/12)*C16 -> 0.125 | AL16: =(1/12)*C16 -> 0.083333333 | AP16: =(1/12)*C16 -> 0.083333333
A17: GAU | B17: MSD - CBRE | C17: 1 | D17: 6 | K17: 10 | P17: =(1/12)*C17 -> 0.083333333 | R17: =(1/24)*C17 -> 0.041666667 | Z17: =(3/12)*C17 -> 0.25 | AA17: =(3/12)*C17 -> 0.25 | AB17: =(3/12)*C17 -> 0.25 | AG17: =(4/12)*C17 -> 0.33333333 | AJ17: =(1.5/12)*C17 -> 0.125 | AL17: =(1/12)*C17 -> 0.083333333 | AP17: =(1/12)*C17 -> 0.083333333
A18: GAU | B18: CBRE - Isando | C18: 1 | D18: 4 | K18: 4 | P18: =(1/12)*C18 -> 0.083333333 | R18: =(1/24)*C18 -> 0.041666667 | Z18: =(3/12)*C18 -> 0.25 | AA18: =(3/12)*C18 -> 0.25 | AB18: =(3/12)*C18 -> 0.25 | AG18: =(4/12)*C18 -> 0.33333333 | AJ18: =(1.5/12)*C18 -> 0.125 | AL18: =(1/12)*C18 -> 0.083333333 | AP18: =(1/12)*C18 -> 0.083333333
A19: GAU | B19: Mustek | C19: 1 | D19: 4 | K19: 4 | P19: =(1/12)*C19 -> 0.083333333 | R19: =(1/24)*C19 -> 0.041666667 | Z19: =(3/12)*C19 -> 0.25 | AA19: =(3/12)*C19 -> 0.25 | AB19: =(3/12)*C19 -> 0.25 | AG19: =(4/12)*C19 -> 0.33333333 | AJ19: =(1.5/12)*C19 -> 0.125 | AL19: =(1/12)*C19 -> 0.083333333 | AP19: =(1/12)*C19 -> 0.083333333
A20: GAU | B20: Servest | C20: 1 | D20: 4 | K20: 6 | P20: =(1/12)*C20 -> 0.083333333 | R20: =(1/24)*C20 -> 0.041666667 | Z20: =(3/12)*C20 -> 0.25 | AA20: =(3/12)*C20 -> 0.25 | AB20: =(3/12)*C20 -> 0.25 | AG20: =(4/12)*C20 -> 0.33333333 | AJ20: =(1.5/12)*C20 -> 0.125 | AL20: =(1/12)*C20 -> 0.083333333 | AP20: =(1/12)*C20 -> 0.083333333
A21: GAU | B21: Avroy Shlain | C21: 1 | D21: 4 | K21: 6 | P21: =(1/12)*C21 -> 0.083333333 | R21: =(1/24)*C21 -> 0.041666667 | Z21: =(3/12)*C21 -> 0.25 | AA21: =(3/12)*C21 -> 0.25 | AB21: =(3/12)*C21 -> 0.25 | AG21: =(4/12)*C21 -> 0.33333333 | AJ21: =(1.5/12)*C21 -> 0.125 | AL21: =(1/12)*C21 -> 0.083333333 | AP21: =(1/12)*C21 -> 0.083333333
A22: GAU | B22: Roche | C22: 1 | D22: 4 | K22: 4 | P22: =(1/12)*C22 -> 0.083333333 | R22: =(1/24)*C22 -> 0.041666667 | Z22: =(3/12)*C22 -> 0.25 | AA22: =(3/12)*C22 -> 0.25 | AB22: =(3/12)*C22 -> 0.25 | AG22: =(4/12)*C22 -> 0.33333333 | AJ22: =(1.5/12)*C22 -> 0.125 | AL22: =(1/12)*C22 -> 0.083333333 | AP22: =(1/12)*C22 -> 0.083333333
A23: GAU | B23: BMW Midrand | C23: 3 | D23: 12 | K23: 20 | P23: =(1/12)*C23 -> 0.25 | R23: =(1/24)*C23 -> 0.125 | Z23: =(3/12)*C23 -> 0.75 | AA23: =(3/12)*C23 -> 0.75 | AB23: =(3/12)*C23 -> 0.75 | AG23: =(4/12)*C23 -> 1 | AJ23: =(1.5/12)*C23 -> 0.375 | AL23: =(1/12)*C23 -> 0.25 | AP23: =(1/12)*C23 -> 0.25
A24: GAU | B24: Pepsico Brits Bakery | C24: 1 | D24: 4 | K24: 4 | P24: =(1/12)*C24 -> 0.083333333 | Q24: =(1/12)*C24 -> 0.083333333 | R24: =(1/24)*C24 -> 0.041666667 | Z24: =(3/12)*C24 -> 0.25 | AA24: =(3/12)*C24 -> 0.25 | AB24: =(3/12)*C24 -> 0.25 | AG24: =(4/12)*C24 -> 0.33333333 | AJ24: =(1.5/12)*C24 -> 0.125 | AL24: =(1/12)*C24 -> 0.083333333 | AO24: =(1/12)*C24 -> 0.083333333 | AP24: =(1/12)*C24 -> 0.083333333
A25: GAU | B25: Afrox Brits | C25: 2 | D25: 8 | K25: 20 | P25: =(1/12)*C25 -> 0.16666667 | Q25: =(1/12)*C25 -> 0.16666667 | R25: =(1/24)*C25 -> 0.083333333 | T25: =(3/12)*C25 -> 0.5 | U25: =(3/12)*C25 -> 0.5 | AB25: =(3/12)*C25 -> 0.5 | AG25: =(4/12)*C25 -> 0.66666667 | AJ25: =(1.5/12)*C25 -> 0.25 | AL25: =(1/12)*C25 -> 0.16666667 | AP25: =(1/12)*C25 -> 0.16666667
A26: GAU | B26: Afrox (Pta West) | C26: 1 | D26: 0 | K26: 0 | P26: =(1/12)*C26 -> 0.083333333 | R26: =(1/24)*C26 -> 0.041666667 | T26: =(3/12)*C26 -> 0.25 | U26: =(3/12)*C26 -> 0.25 | AB26: =(3/12)*C26 -> 0.25 | AG26: =(4/12)*C26 -> 0.33333333 | AJ26: =(1.5/12)*C26 -> 0.125 | AL26: =(1/12)*C26 -> 0.083333333 | AP26: =(1/12)*C26 -> 0.083333333
A27: GAU | B27: Barloworld Kathu | C27: 3 | D27: 24 | G27: 3 | K27: 40 | P27: =(1/12)*C27 -> 0.25 | Q27: =(1/12)*C27 -> 0.25 | R27: =(1/24)*C27 -> 0.125 | T27: =(3/12)*C27 -> 0.75 | U27: =(3/12)*C27 -> 0.75 | AB27: =(3/12)*C27 -> 0.75 | AG27: =(4/12)*C27 -> 1 | AJ27: =(1.5/12)*C27 -> 0.375 | AL27: =(1/12)*C27 -> 0.25 | AP27: =(1/12)*C27 -> 0.25
A28: GAU | B28: Thai Summit Automotive | C28: 1 | D28: 6 | K28: 20 | P28: =(1/12)*C28 -> 0.083333333 | Q28: =(1/12)*C28 -> 0.083333333 | R28: =(1/24)*C28 -> 0.041666667 | S28: 4 | Z28: =(3/12)*C28 -> 0.25 | AA28: =(3/12)*C28 -> 0.25 | AB28: =(3/12)*C28 -> 0.25 | AG28: =(4/12)*C28 -> 0.33333333 | AJ28: =(1.5/12)*C28 -> 0.125 | AL28: =(1/12)*C28 -> 0.083333333 | AO28: =(1/12)*C28 -> 0.083333333 | AP28: =(1/12)*C28 -> 0.083333333 | AR28: 2
A29: GAU | B29: Albany Pretoria - Tiger Brands | C29: 2 | D29: 8 | K29: 8 | P29: =(1/12)*C29 -> 0.16666667 | Q29: =(1/12)*C29 -> 0.16666667 | R29: =(1/24)*C29 -> 0.083333333 | Z29: =(3/12)*C29 -> 0.5 | AA29: =(3/12)*C29 -> 0.5 | AB29: =(3/12)*C29 -> 0.5 | AG29: =(4/12)*C29 -> 0.66666667 | AJ29: =(1.5/12)*C29 -> 0.25 | AL29: =(1/12)*C29 -> 0.16666667 | AP29: =(1/12)*C29 -> 0.16666667
A30: GAU | B30: Automould | C30: 2 | D30: 12 | K30: 10 | P30: =(1/12)*C30 -> 0.16666667 | Q30: =(1/12)*C30 -> 0.16666667 | R30: =(1/24)*C30 -> 0.083333333 | Z30: =(3/12)*C30 -> 0.5 | AA30: =(3/12)*C30 -> 0.5 | AB30: =(3/12)*C30 -> 0.5 | AG30: =(4/12)*C30 -> 0.66666667 | AJ30: =(1.5/12)*C30 -> 0.25 | AL30: =(1/12)*C30 -> 0.16666667 | AP30: =(1/12)*C30 -> 0.16666667
A31: GAU | B31: AVI Willards | C31: 12 | D31: 72 | K31: 120 | P31: =(1/12)*C31 -> 1 | Q31: =(1/12)*C31 -> 1 | R31: =(1/24)*C31 -> 0.5 | Z31: =(3/12)*C31 -> 3 | AA31: =(3/12)*C31 -> 3 | AB31: =(3/12)*C31 -> 3 | AG31: =(4/12)*C31 -> 4 | AJ31: =(1.5/12)*C31 -> 1.5 | AL31: =(1/12)*C31 -> 1 | AN31: =(1/12)*C31 -> 1 | AP31: =(1/12)*C31 -> 1 | AR31: 288
A32: GAU | B32: Bimbo | C32: 1 | D32: 8 | K32: 10 | P32: =(1/12)*C32 -> 0.083333333 | R32: =(1/24)*C32 -> 0.041666667 | Z32: =(3/12)*C32 -> 0.25 | AA32: =(3/12)*C32 -> 0.25 | AB32: =(3/12)*C32 -> 0.25 | AG32: =(4/12)*C32 -> 0.33333333 | AJ32: =(1.5/12)*C32 -> 0.125 | AL32: =(1/12)*C32 -> 0.083333333 | AP32: =(1/12)*C32 -> 0.083333333
A33: GAU | B33: Premier Foods Watloo | C33: 2 | D33: 12 | K33: 10 | P33: =(1/12)*C33 -> 0.16666667 | Q33: =(1/12)*C33 -> 0.16666667 | R33: =(1/24)*C33 -> 0.083333333 | Z33: =(3/12)*C33 -> 0.5 | AA33: =(3/12)*C33 -> 0.5 | AB33: =(3/12)*C33 -> 0.5 | AG33: =(4/12)*C33 -> 0.66666667 | AJ33: =(1.5/12)*C33 -> 0.25 | AL33: =(1/12)*C33 -> 0.16666667 | AP33: =(1/12)*C33 -> 0.16666667
A34: GAU | B34: Sephako Lichtenburg | C34: 4 | D34: 48 | G34: 4 | K34: 80 | P34: =(1/12)*C34 -> 0.33333333 | Q34: =(1/12)*C34 -> 0.33333333 | R34: =(1/24)*C34 -> 0.16666667 | S34: 100 | Z34: =(3/12)*C34 -> 1 | AA34: =(3/12)*C34 -> 1 | AB34: =(3/12)*C34 -> 1 | AF34: =(4/12)*C34 -> 1.3333333 | AJ34: =(1.5/12)*C34 -> 0.5 | AL34: =(1/12)*C34 -> 0.33333333 | AP34: =(1/12)*C34 -> 0.33333333 | AR34: 24
A35: GAU | B35: Adient Foam Plant | C35: 5 | D35: 24 | K35: 40 | P35: =(1/12)*C35 -> 0.41666667 | Q35: =(1/12)*C35 -> 0.41666667 | R35: =(1/24)*C35 -> 0.20833333 | Z35: =(3/12)*C35 -> 1.25 | AA35: =(3/12)*C35 -> 1.25 | AB35: =(3/12)*C35 -> 1.25 | AG35: =(4/12)*C35 -> 1.6666667 | AJ35: =(1.5/12)*C35 -> 0.625 | AL35: =(1/12)*C35 -> 0.41666667 | AP35: =(1/12)*C35 -> 0.41666667
A36: GAU | B36: Praga | C36: 2 | D36: 12 | K36: 10 | P36: =(1/12)*C36 -> 0.16666667 | Q36: =(1/12)*C36 -> 0.16666667 | R36: =(1/24)*C36 -> 0.083333333 | Z36: =(3/12)*C36 -> 0.5 | AA36: =(3/12)*C36 -> 0.5 | AB36: =(3/12)*C36 -> 0.5 | AG36: =(4/12)*C36 -> 0.66666667 | AJ36: =(1.5/12)*C36 -> 0.25 | AL36: =(1/12)*C36 -> 0.16666667 | AP36: =(1/12)*C36 -> 0.16666667 | AR36: 6
A37: GAU | B37: SA Bank Notes | C37: 2 | D37: 12 | K37: 20 | P37: =(1/12)*C37 -> 0.16666667 | Q37: =(1/12)*C37 -> 0.16666667 | R37: =(1/24)*C37 -> 0.083333333 | Z37: =(3/12)*C37 -> 0.5 | AA37: =(3/12)*C37 -> 0.5 | AB37: =(3/12)*C37 -> 0.5 | AG37: =(4/12)*C37 -> 0.66666667 | AJ37: =(1.5/12)*C37 -> 0.25 | AL37: =(1/12)*C37 -> 0.16666667 | AP37: =(1/12)*C37 -> 0.16666667
A38: GAU | B38: ATD | C38: 5 | D38: 24 | K38: 40 | P38: =(1/12)*C38 -> 0.41666667 | Q38: =(1/12)*C38 -> 0.41666667 | R38: =(1/24)*C38 -> 0.20833333 | Z38: =(3/12)*C38 -> 1.25 | AA38: =(3/12)*C38 -> 1.25 | AB38: =(3/12)*C38 -> 1.25 | AG38: =(4/12)*C38 -> 1.6666667 | AJ38: =(1.5/12)*C38 -> 0.625 | AL38: =(1/12)*C38 -> 0.41666667 | AP38: =(1/12)*C38 -> 0.41666667 | AR38: 10
A39: GAU | B39: BMW VDC | C39: 4 | D39: 12 | E39: 12 | J39: 100 | P39: =(1/12)*C39 -> 0.33333333 | Q39: =(1/12)*C39 -> 0.33333333 | R39: =(1/24)*C39 -> 0.16666667 | Z39: =(3/12)*C39 -> 1 | AA39: =(3/12)*C39 -> 1 | AB39: =(3/12)*C39 -> 1 | AG39: =(4/12)*C39 -> 1.3333333 | AJ39: =(1.5/12)*C39 -> 0.5 | AL39: =(1/12)*C39 -> 0.33333333 | AN39: =(1/12)*C39 -> 0.33333333 | AP39: =(1/12)*C39 -> 0.33333333 | AR39: 8
A40: GAU | B40: DMS Powders | C40: 1 | D40: 2 | L40: 4 | P40: =(1/12)*C40 -> 0.083333333 | R40: =(1/24)*C40 -> 0.041666667 | Z40: =(3/12)*C40 -> 0.25 | AA40: =(3/12)*C40 -> 0.25 | AB40: =(3/12)*C40 -> 0.25 | AG40: =(4/12)*C40 -> 0.33333333 | AJ40: =(1.5/12)*C40 -> 0.125 | AL40: =(1/12)*C40 -> 0.083333333 | AP40: =(1/12)*C40 -> 0.083333333
...

Sheet Annual Requirement
A1: NATIONAL ON-SITE ANNUAL PPE REQUIREMENT | D1: GLOVES | J1: MASKS | P1: CLOTHING | AD1: EYE & FACE | AI1: FEET | AL1: HEAD | AR1: EAR | AT1: OTHER
A2: Region | B2: Site | C2: Staff | D2: Gripper "Crayfish" Gloves | E2: Cut resistant Level 5 Gloves | F2: Welders Gloves | G2: PVC Gloves | H2: PVC elbow length glove | I2: Surgical Gloves | J2: Surgical Masks | K2: Dust Mask FFP3 | L2: Dust Mask FFP2 | M2: 3M Half Mask respirator | N2: 3M Half Mask respirator Cartages ABEK 1 | O2: 3M Half Mask retainer | P2: Reflective Jackets - Orange with branding | Q2: Rain Suits Small to 3XL | R2: Winter Jackets Small to 3XL | S2: Serenex Dust Suits Small to 3 XL (White Suits) | T2: Overalls Trouser Flame and Acid retardant (Blue) | U2: Overalls Jacket Flame and Acid retardant (Blue) | V2: Overalls Trouser Flame and Acid retardant (Green) | W2: Overalls Jacket Flame and Acid retardant (Green) | X2: Overalls Trousers Acid Proof | Y2: Overall Jackets Acid Proof | Z2: Overalls Trousers Non Acid | AA2: Overall Jackets Non Acid | AB2: T- Shirts | AC2: Bee suits | AD2: Welding Goggles | AE2: Safety Goggles with elastic band | AF2: Safety Spoggles - Safety Eyewear | AG2: Standard sporty spectacles eyewear | AH2: Face Shield | AI2: Gum boots | AJ2: Safety Boots | AK2: Spats | AL2: Caps | AM2: Cricket Hats | AN2: Bump Caps | AO2: Hard hat orange brim | AP2: Hard Hats | AQ2: Chin straps | AR2: Ear Plugs - Corded | AS2: Ear Mufs | AT2: PVC Aprons - Heavy duty | AU2: Leather Apron | AV2: Kidney Belts
A3: =Sites!A3 -> GAU | B3: =Sites!B3 -> Aquazania | C3: =Sites!C3 -> 1 | D3: =Sites!D3*12 -> 48 | E3: =Sites!E3*12 -> 0 | F3: =Sites!F3*12 -> 0 | G3: =Sites!G3*12 -> 0 | H3: =Sites!H3*12 -> 0 | I3: =Sites!I3*12 -> 0 | J3: =Sites!J3*12 -> 0 | K3: =Sites!K3*12 -> 48 | ... AV3: =Sites!AV3*12 -> 0
A4: =Sites!A4 -> GAU | B4: =Sites!B4 -> Idemia | C4: =Sites!C4 -> 1 | D4: =Sites!D4*12 -> 48 | E4: =Sites!E4*12 -> 0 | F4: =Sites!F4*12 -> 0 | G4: =Sites!G4*12 -> 0 | H4: =Sites!H4*12 -> 0 | I4: =Sites!I4*12 -> 0 | J4: =Sites!J4*12 -> 0 | K4: =Sites!K4*12 -> 72 | ... AV4: =Sites!AV4*12 -> 0
A5: =Sites!A5 -> GAU | B5: =Sites!B5 -> Givaudan Linbro Park | C5: =Sites!C5 -> 1 | D5: =Sites!D5*12 -> 48 | E5: =Sites!E5*12 -> 0 | F5: =Sites!F5*12 -> 0 | G5: =Sites!G5*12 -> 0 | H5: =Sites!H5*12 -> 0 | I5: =Sites!I5*12 -> 0 | J5: =Sites!J5*12 -> 0 | L5: 72 | M5: =Sites!M5*12 -> 0 | N5: =Sites!N5*12 -> 0 | O5: =Sites!O5*12 -> 0 | P5: =Sites!P5*12 -> 1 | Q5: =Sites!Q5*12 -> 0 | R5: =Sites!R5*12 -> 0.5 | S5: =Sites!S5*12 -> 0 | T5: =Sites!T5*12 -> 0 | ... AV5: =Sites!AV5*12 -> 0
A6: =Sites!A6 -> GAU | B6: =Sites!B6 -> ALS Chemex | C6: =Sites!C6 -> 1 | D6: =Sites!D6*12 -> 48 | E6: =Sites!E6*12 -> 0 | F6: =Sites!F6*12 -> 0 | G6: =Sites!G6*12 -> 0 | H6: =Sites!H6*12 -> 0 | I6: =Sites!I6*12 -> 0 | J6: =Sites!J6*12 -> 0 | L6: 144 | M6: =Sites!M6*12 -> 0 | N6: =Sites!N6*12 -> 0 | O6: =Sites!O6*12 -> 0 | P6: =Sites!P6*12 -> 1 | Q6: =Sites!Q6*12 -> 0 | R6: =Sites!R6*12 -> 0.5 | S6: =Sites!S6*12 -> 0 | T6: =Sites!T6*12 -> 0 | ... AV6: =Sites!AV6*12 -> 0
A7: =Sites!A7 -> GAU | B7: =Sites!B7 -> Busamed | C7: =Sites!C7 -> 1 | D7: =Sites!D7*12 -> 48 | E7: =Sites!E7*12 -> 0 | F7: =Sites!F7*12 -> 0 | G7: =Sites!G7*12 -> 0 | H7: =Sites!H7*12 -> 0 | I7: =Sites!I7*12 -> 0 | J7: =Sites!J7*12 -> 0 | L7: 72 | M7: =Sites!M7*12 -> 0 | N7: =Sites!N7*12 -> 0 | O7: =Sites!O7*12 -> 0 | P7: =Sites!P7*12 -> 1 | Q7: =Sites!Q7*12 -> 0 | R7: =Sites!R7*12 -> 0.5 | S7: =Sites!S7*12 -> 0 | T7: =Sites!T7*12 -> 0 | ... AV7: =Sites!AV7*12 -> 0
A8: =Sites!A8 -> GAU | B8: =Sites!B8 -> Valemount | C8: =Sites!C8 -> 1 | D8: =Sites!D8*12 -> 48 | E8: =Sites!E8*12 -> 0 | F8: =Sites!F8*12 -> 0 | G8: =Sites!G8*12 -> 0 | H8: =Sites!H8*12 -> 0 | I8: =Sites!I8*12 -> 0 | J8: =Sites!J8*12 -> 0 | L8: 72 | M8: =Sites!M8*12 -> 0 | N8: =Sites!N8*12 -> 0 | O8: =Sites!O8*12 -> 0 | P8: =Sites!P8*12 -> 1 | Q8: =Sites!Q8*12 -> 0 | R8: =Sites!R8*12 -> 0.5 | S8: =Sites!S8*12 -> 0 | T8: =Sites!T8*12 -> 0 | ... AV8: =Sites!AV8*12 -> 0
A9: =Sites!A9 -> GAU | B9: =Sites!B9 -> Freedomwon | C9: =Sites!C9 -> 1 | D9: =Sites!D9*12 -> 48 | E9: =Sites!E9*12 -> 0 | F9: =Sites!F9*12 -> 0 | G9: =Sites!G9*12 -> 0 | H9: =Sites!H9*12 -> 0 | I9: =Sites!I9*12 -> 0 | J9: =Sites!J9*12 -> 0 | L9: 72 | M9: =Sites!M9*12 -> 0 | N9: =Sites!N9*12 -> 0 | O9: =Sites!O9*12 -> 0 | P9: =Sites!P9*12 -> 1 | Q9: =Sites!Q9*12 -> 0 | R9: =Sites!R9*12 -> 0.5 | S9: =Sites!S9*12 -> 0 | T9: =Sites!T9*12 -> 0 | ... AV9: =Sites!AV9*12 -> 0
A10: =Sites!A10 -> GAU | B10: =Sites!B10 -> The Country Pie | C10: =Sites!C10 -> 1 | D10: =Sites!D10*12 -> 0 | E10: =Sites!E10*12 -> 0 | F10: =Sites!F10*12 -> 0 | G10: =Sites!G10*12 -> 0 | H10: =Sites!H10*12 -> 0 | I10: =Sites!I10*12 -> 0 | J10: =Sites!J10*12 -> 0 | L10: 0 | M10: =Sites!M10*12 -> 0 | N10: =Sites!N10*12 -> 0 | O10: =Sites!O10*12 -> 0 | P10: =Sites!P10*12 -> 1 | Q10: =Sites!Q10*12 -> 0 | R10: =Sites!R10*12 -> 0.5 | S10: =Sites!S10*12 -> 0 | T10: =Sites!T10*12 -> 0 | ... AV10: =Sites!AV10*12 -> 0
A11: =Sites!A11 -> GAU | B11: =Sites!B11 -> Donaldson Filtration | C11: =Sites!C11 -> 1 | D11: =Sites!D11*12 -> 48 | E11: =Sites!E11*12 -> 0 | F11: =Sites!F11*12 -> 0 | G11: =Sites!G11*12 -> 0 | H11: =Sites!H11*12 -> 0 | I11: =Sites!I11*12 -> 0 | J11: =Sites!J11*12 -> 0 | L11: 72 | M11: =Sites!M11*12 -> 0 | N11: =Sites!N11*12 -> 0 | O11: =Sites!O11*12 -> 0 | P11: =Sites!P11*12 -> 1 | Q11: =Sites!Q11*12 -> 0 | R11: =Sites!R11*12 -> 0.5 | S11: =Sites!S11*12 -> 0 | T11: =Sites!T11*12 -> 0 | ... AV11: =Sites!AV11*12 -> 0
A12: =Sites!A12 -> GAU | B12: =Sites!B12 -> Chipkins | C12: =Sites!C12 -> 2 | D12: =Sites!D12*12 -> 96 | E12: =Sites!E12*12 -> 0 | F12: =Sites!F12*12 -> 0 | G12: =Sites!G12*12 -> 0 | H12: =Sites!H12*12 -> 0 | I12: =Sites!I12*12 -> 0 | J12: =Sites!J12*12 -> 0 | L12: 240 | M12: =Sites!M12*12 -> 0 | N12: =Sites!N12*12 -> 0 | O12: =Sites!O12*12 -> 0 | P12: =Sites!P12*12 -> 2 | Q12: =Sites!Q12*12 -> 0 | R12: =Sites!R12*12 -> 1 | S12: =Sites!S12*12 -> 192 | T12: =Sites!T12*12 -> 0 | ... AV12: =Sites!AV12*12 -> 0
A13: =Sites!A13 -> GAU | B13: =Sites!B13 -> SAAB | C13: =Sites!C13 -> 1 | D13: =Sites!D13*12 -> 48 | E13: =Sites!E13*12 -> 0 | F13: =Sites!F13*12 -> 0 | G13: =Sites!G13*12 -> 0 | H13: =Sites!H13*12 -> 0 | I13: =Sites!I13*12 -> 0 | J13: =Sites!J13*12 -> 0 | L13: 96 | M13: =Sites!M13*12 -> 0 | N13: =Sites!N13*12 -> 0 | O13: =Sites!O13*12 -> 0 | P13: =Sites!P13*12 -> 1 | Q13: =Sites!Q13*12 -> 0 | R13: =Sites!R13*12 -> 0.5 | S13: =Sites!S13*12 -> 0 | T13: =Sites!T13*12 -> 0 | ... AV13: =Sites!AV13*12 -> 0
A14: =Sites!A14 -> GAU | B14: =Sites!B14 -> Premier Foods Lordsview | C14: =Sites!C14 -> 1 | D14: =Sites!D14*12 -> 48 | E14: =Sites!E14*12 -> 0 | F14: =Sites!F14*12 -> 0 | G14: =Sites!G14*12 -> 0 | H14: =Sites!H14*12 -> 0 | I14: =Sites!I14*12 -> 0 | J14: =Sites!J14*12 -> 0 | L14: 96 | M14: =Sites!M14*12 -> 0 | N14: =Sites!N14*12 -> 0 | O14: =Sites!O14*12 -> 0 | P14: =Sites!P14*12 -> 1 | Q14: =Sites!Q14*12 -> 0 | R14: =Sites!R14*12 -> 0.5 | S14: =Sites!S14*12 -> 0 | T14: =Sites!T14*12 -> 0 | ... AV14: =Sites!AV14*12 -> 0
A15: =Sites!A15 -> GAU | B15: =Sites!B15 -> Fresenius Kabi | C15: =Sites!C15 -> 1 | D15: =Sites!D15*12 -> 24 | E15: =Sites!E15*12 -> 0 | F15: =Sites!F15*12 -> 0 | G15: =Sites!G15*12 -> 0 | H15: =Sites!H15*12 -> 0 | I15: =Sites!I15*12 -> 0 | J15: =Sites!J15*12 -> 0 | L15: 48 | M15: =Sites!M15*12 -> 0 | N15: =Sites!N15*12 -> 0 | O15: =Sites!O15*12 -> 0 | P15: =Sites!P15*12 -> 1 | Q15: =Sites!Q15*12 -> 0 | R15: =Sites!R15*12 -> 0.5 | S15: =Sites!S15*12 -> 0 | T15: =Sites!T15*12 -> 0 | ... AV15: =Sites!AV15*12 -> 0
A16: =Sites!A16 -> GAU | B16: =Sites!B16 -> King Pie | C16: =Sites!C16 -> 1 | D16: =Sites!D16*12 -> 48 | E16: =Sites!E16*12 -> 0 | F16: =Sites!F16*12 -> 0 | G16: =Sites!G16*12 -> 0 | H16: =Sites!H16*12 -> 0 | I16: =Sites!I16*12 -> 0 | J16: =Sites!J16*12 -> 0 | L16: 96 | M16: =Sites!M16*12 -> 0 | N16: =Sites!N16*12 -> 0 | O16: =Sites!O16*12 -> 0 | P16: =Sites!P16*12 -> 1 | Q16: =Sites!Q16*12 -> 0 | R16: =Sites!R16*12 -> 0.5 | S16: =Sites!S16*12 -> 48 | T16: =Sites!T16*12 -> 0 | ... AV16: =Sites!AV16*12 -> 0
... A38: =Sites!A38 -> GAU | B38: =Sites!B38 -> ATD | C38: =Sites!C38 -> 5 | D38: =Sites!D38*12 -> 288 | E38: =Sites!E38*12 -> 0 | F38: =Sites!F38*12 -> 0 | G38: =Sites!G38*12 -> 0 | H38: =Sites!H38*12 -> 0 | I38: =Sites!I38*12 -> 0 | J38: =Sites!J38*12 -> 0 | L38: 480 | M38: =Sites!M38*12 -> 0 | N38: =Sites!N38*12 -> 0 | O38: =Sites!O38*12 -> 0 | P38: =Sites!P38*12 -> 5 | Q38: =Sites!Q38*12 -> 5 | R38: =Sites!R38*12 -> 2.5 | S38: =Sites!S38*12 -> 0 | T38: =Sites!T38*12 -> 0 | ... AV38: =Sites!AV38*12 -> 0
A39: =Sites!A39 -> GAU | B39: =Sites!B39 -> BMW VDC | C39: =Sites!C39 -> 4 | D39: =Sites!D39*12 -> 144 | E39: =Sites!E39*12 -> 144 | F39: =Sites!F39*12 -> 0 | G39: =Sites!G39*12 -> 0 | H39: =Sites!H39*12 -> 0 | I39: =Sites!I39*12 -> 0 | J39: =Sites!J39*12 -> 1200 | K39: =Sites!K39*12 -> 0 | ... AV39: =Sites!AV39*12 -> 0
A40: =Sites!A40 -> GAU | B40: =Sites!B40 -> DMS Powders | C40: =Sites!C40 -> 1 | D40: =Sites!D40*12 -> 24 | E40: =Sites!E40*12 -> 0 | F40: =Sites!F40*12 -> 0 | G40: =Sites!G40*12 -> 0 | H40: =Sites!H40*12 -> 0 | I40: =Sites!I40*12 -> 0 | J40: =Sites!J40*12 -> 0 | K40: =Sites!K40*12 -> 0 | ... AV40: =Sites!AV40*12 -> 0
A41: =Sites!A41 -> GAU | B41: =Sites!B41 -> AECI | C41: =Sites!C41 -> 1 | D41: =Sites!D41*12 -> 24 | E41: =Sites!E41*12 -> 0 | F41: =Sites!F41*12 -> 0 | G41: =Sites!G41*12 -> 0 | H41: =Sites!H41*12 -> 0 | I41: =Sites!I41*12 -> 0 | J41: =Sites!J41*12 -> 0 | K41: =Sites!K41*12 -> 0 | ... AV41: =Sites!AV41*12 -> 0
A42: =Sites!A42 -> GAU | B42: =Sites!B42 -> Scaw Vereeniging | C42: =Sites!C42 -> 1 | D42: =Sites!D42*12 -> 24 | E42: =Sites!E42*12 -> 0 | F42: =Sites!F42*12 -> 0 | G42: =Sites!G42*12 -> 0 | H42: =Sites!H42*12 -> 0 | I42: =Sites!I42*12 -> 0 | J42: =Sites!J42*12 -> 0 | K42: =Sites!K42*12 -> 0 | ... AV42: =Sites!AV42*12 -> 0
A43: =Sites!A43 -> GAU | B43: =Sites!B43 -> Bevcan Nampk - DivFood | C43: =Sites!C43 -> 4 | D43: =Sites!D43*12 -> 48 | E43: =Sites!E43*12 -> 0 | F43: =Sites!F43*12 -> 0 | G43: =Sites!G43*12 -> 0 | H43: =Sites!H43*12 -> 0 | I43: =Sites!I43*12 -> 0 | J43: =Sites!J43*12 -> 0 | K43: =Sites!K43*12 -> 0 | ... AV43: =Sites!AV43*12 -> 0
A44: =Sites!A44 -> GAU | B44: =Sites!B44 -> Natref | C44: =Sites!C44 -> 4 | D44: =Sites!D44*12 -> 72 | E44: =Sites!E44*12 -> 0 | F44: =Sites!F44*12 -> 0 | G44: =Sites!G44*12 -> 0 | H44: =Sites!H44*12 -> 0 | I44: =Sites!I44*12 -> 0 | J44: =Sites!J44*12 -> 0 | K44: =Sites!K44*12 -> 0 | ... AV44: =Sites!AV44*12 -> 0
A45: =Sites!A45 -> GAU | B45: =Sites!B45 -> Tiger Brands Albany | C45: =Sites!C45 -> 1 | D45: =Sites!D45*12 -> 24 | E45: =Sites!E45*12 -> 0 | F45: =Sites!F45*12 -> 0 | G45: =Sites!G45*12 -> 0 | H45: =Sites!H45*12 -> 0 | I45: =Sites!I45*12 -> 0 | J45: =Sites!J45*12 -> 0 | K45: =Sites!K45*12 -> 0 | ... AV45: =Sites!AV45*12 -> 0
A46: =Sites!A46 -> GAU | B46: =Sites!B46 -> Premier Kroonstad | C46: =Sites!C46 -> 4 | D46: =Sites!D46*12 -> 48 | E46: =Sites!E46*12 -> 0 | F46: =Sites!F46*12 -> 0 | G46: =Sites!G46*12 -> 0 | H46: =Sites!H46*12 -> 0 | I46: =Sites!I46*12 -> 0 | J46: =Sites!J46*12 -> 0 | K46: =Sites!K46*12 -> 0 | ... AV46: =Sites!AV46*12 -> 0
A47: =Sites!A47 -> GAU | B47: =Sites!B47 -> Mittal | C47: =Sites!C47 -> 8 | D47: =Sites!D47*12 -> 144 | E47: =Sites!E47*12 -> 0 | F47: =Sites!F47*12 -> 0 | G47: =Sites!G47*12 -> 0 | H47: =Sites!H47*12 -> 0 | I47: =Sites!I47*12 -> 0 | J47: =Sites!J47*12 -> 0 | K47: =Sites!K47*12 -> 0 | ... AV47: =Sites!AV47*12 -> 0
A48: =Sites!A48 -> GAU | B48: =Sites!B48 -> Cable Tapes | C48: =Sites!C48 -> 1 | D48: =Sites!D48*12 -> 60 | E48: =Sites!E48*12 -> 0 | F48: =Sites!F48*12 -> 0 | G48: =Sites!G48*12 -> 0 | H48: =Sites!H48*12 -> 0 | I48: =Sites!I48*12 -> 0 | J48: =Sites!J48*12 -> 0 | L48: 120 | M48: =Sites!M48*12 -> 0 | N48: =Sites!N48*12 -> 0 | O48: =Sites!O48*12 -> 0 | P48: =Sites!P48*12 -> 1 | Q48: =Sites!Q48*12 -> 0 | R48: =Sites!R48*12 -> 0.5 | S48: =Sites!S48*12 -> 0 | T48: =Sites!T48*12 -> 0 | ... AV48: =Sites!AV48*12 -> 0
A49: =Sites!A49 -> GAU | B49: =Sites!B49 -> Deltec Energy Solutions | C49: =Sites!C49 -> 1 | D49: =Sites!D49*12 -> 72 | E49: =Sites!E49*12 -> 0 | F49: =Sites!F49*12 -> 0 | G49: =Sites!G49*12 -> 0 | H49: =Sites!H49*12 -> 0 | I49: =Sites!I49*12 -> 0 | J49: =Sites!J49*12 -> 0 | L49: 120 | M49: =Sites!M49*12 -> 0 | N49: =Sites!N49*12 -> 0 | O49: =Sites!O49*12 -> 0 | P49: =Sites!P49*12 -> 1 | Q49: =Sites!Q49*12 -> 0 | R49: =Sites!R49*12 -> 0.5 | S49: =Sites!S49*12 -> 0 | T49: =Sites!T49*12 -> 0 | ... AV49: =Sites!AV49*12 -> 0
A50: =Sites!A50 -> GAU | B50: =Sites!B50 -> Prominent Paints | C50: =Sites!C50 -> 4 | D50: =Sites!D50*12 -> 288 | E50: =Sites!E50*12 -> 0 | F50: =Sites!F50*12 -> 0 | G50: =Sites!G50*12 -> 48 | H50: =Sites!H50*12 -> 0 | I50: =Sites!I50*12 -> 0 | J50: =Sites!J50*12 -> 0 | L50: 240 | M50: =Sites!M50*12 -> 0 | N50: =Sites!N50*12 -> 0 | O50: =Sites!O50*12 -> 0 | P50: =Sites!P50*12 -> 4 | Q50: =Sites!Q50*12 -> 0 | R50: =Sites!R50*12 -> 2 | S50: =Sites!S50*12 -> 48 | T50: =Sites!T50*12 -> 0 | ... AV50: =Sites!AV50*12 -> 0
A51: =Sites!A51 -> GAU | B51: =Sites!B51 -> Air Liquide Alrode | C51: =Sites!C51 -> 1 | D51: =Sites!D51*12 -> 72 | E51: =Sites!E51*12 -> 0 | F51: =Sites!F51*12 -> 0 | G51: =Sites!G51*12 -> 0 | H51: =Sites!H51*12 -> 0 | I51: =Sites!I51*12 -> 0 | J51: =Sites!J51*12 -> 0 | L51: 240 | M51: =Sites!M51*12 -> 0 | N51: =Sites!N51*12 -> 0 | O51: =Sites!O51*12 -> 0 | P51: =Sites!P51*12 -> 1 | Q51: =Sites!Q51*12 -> 0 | R51: =Sites!R51*12 -> 0.5 | S51: =Sites!S51*12 -> 0 | T51: =Sites!T51*12 -> 3 | ... AV51: =Sites!AV51*12 -> 0
A52: =Sites!A52 -> GAU | B52: =Sites!B52 -> Friendly Cow | C52: =Sites!C52 -> 1 | D52: =Sites!D52*12 -> 72 | E52: =Sites!E52*12 -> 0 | F52: =Sites!F52*12 -> 0 | G52: =Sites!G52*12 -> 0 | H52: =Sites!H52*12 -> 0 | I52: =Sites!I52*12 -> 0 | J52: =Sites!J52*12 -> 0 | L52: 120 | M52: =Sites!M52*12 -> 0 | N52: =Sites!N52*12 -> 0 | O52: =Sites!O52*12 -> 0 | P52: =Sites!P52*12 -> 1 | Q52: =Sites!Q52*12 -> 0 | R52: =Sites!R52*12 -> 0.5 | S52: =Sites!S52*12 -> 0 | T52: =Sites!T52*12 -> 0 | ... AV52: =Sites!AV52*12 -> 0
A53: =Sites!A53 -> GAU | B53: =Sites!B53 -> Ferrero | C53: =Sites!C53 -> 1 | D53: =Sites!D53*12 -> 72 | E53: =Sites!E53*12 -> 0 | F53: =Sites!F53*12 -> 0 | G53: =Sites!G53*12 -> 0 | H53: =Sites!H53*12 -> 0 | I53: =Sites!I53*12 -> 0 | J53: =Sites!J53*12 -> 0 | L53: 120 | M53: =Sites!M53*12 -> 0 | N53: =Sites!N53*12 -> 0 | O53: =Sites!O53*12 -> 0 | P53: =Sites!P53*12 -> 1 | Q53: =Sites!Q53*12 -> 0 | R53: =Sites!R53*12 -> 0.5 | S53: =Sites!S53*12 -> 0 | T53: =Sites!T53*12 -> 0 | ... AV53: =Sites!AV53*12 -> 0
A54: =Sites!A54 -> GAU | B54: =Sites!B54 -> Heineken | C54: =Sites!C54 -> 15 | D54: =Sites!D54*12 -> 576 | E54: =Sites!E54*12 -> 144 | F54: =Sites!F54*12 -> 0 | G54: =Sites!G54*12 -> 0 | H54: =Sites!H54*12 -> 0 | I54: =Sites!I54*12 -> 0 | J54: =Sites!J54*12 -> 0 | L54: 480 | M54: =Sites!M54*12 -> 0 | N54: =Sites!N54*12 -> 0 | O54: =Sites!O54*12 -> 0 | P54: =Sites!P54*12 -> 15 | Q54: =Sites!Q54*12 -> 0 | R54: =Sites!R54*12 -> 7.5 | S54: =Sites!S54*12 -> 0 | T54: =Sites!T54*12 -> 0 | ... AV54: =Sites!AV54*12 -> 48
A55: =Sites!A55 -> GAU | B55: =Sites!B55 -> Babcock | C55: =Sites!C55 -> 1 | D55: =Sites!D55*12 -> 72 | E55: =Sites!E55*12 -> 0 | F55: =Sites!F55*12 -> 0 | G55: =Sites!G55*12 -> 0 | H55: =Sites!H55*12 -> 0 | I55: =Sites!I55*12 -> 0 | J55: =Sites!J55*12 -> 0 | L55: 120 | M55: =Sites!M55*12 -> 0 | N55: =Sites!N55*12 -> 0 | O55: =Sites!O55*12 -> 0 | P55: =Sites!P55*12 -> 1 | Q55: =Sites!Q55*12 -> 0 | R55: =Sites!R55*12 -> 0.5 | S55: =Sites!S55*12 -> 0 | T55: =Sites!T55*12 -> 0 | ... AV55: =Sites!AV55*12 -> 0
A56: =Sites!A56 -> GAU | B56: =Sites!B56 -> Marcopolo | C56: =Sites!C56 -> 2 | D56: =Sites!D56*12 -> 144 | E56: =Sites!E56*12 -> 0 | F56: =Sites!F56*12 -> 0 | G56: =Sites!G56*12 -> 0 | H56: =Sites!H56*12 -> 0 | I56: =Sites!I56*12 -> 0 | J56: =Sites!J56*12 -> 0 | L56: 240 | M56: =Sites!M56*12 -> 0 | N56: =Sites!N56*12 -> 0 | O56: =Sites!O56*12 -> 0 | P56: =Sites!P56*12 -> 2 | Q56: =Sites!Q56*12 -> 0 | R56: =Sites!R56*12 -> 1 | S56: =Sites!S56*12 -> 48 | T56: =Sites!T56*12 -> 0 | ... AV56: =Sites!AV56*12 -> 0
A57: =Sites!A57 -> GAU | B57: =Sites!B57 -> Haggie Scaw | C57: =Sites!C57 -> 1 | D57: =Sites!D57*12 -> 72 | E57: =Sites!E57*12 -> 0 | F57: =Sites!F57*12 -> 0 | G57: =Sites!G57*12 -> 0 | H57: =Sites!H57*12 -> 0 | I57: =Sites!I57*12 -> 0 | J57: =Sites!J57*12 -> 0 | L57: 120 | M57: =Sites!M57*12 -> 0 | N57: =Sites!N57*12 -> 0 | O57: =Sites!O57*12 -> 0 | P57: =Sites!P57*12 -> 1 | Q57: =Sites!Q57*12 -> 0 | R57: =Sites!R57*12 -> 0.5 | S57: =Sites!S57*12 -> 0 | T57: =Sites!T57*12 -> 0 | ... AV57: =Sites!AV57*12 -> 0
A58: =Sites!A58 -> GAU | B58: =Sites!B58 -> Isuzu | C58: =Sites!C58 -> 3 | D58: =Sites!D58*12 -> 288 | E58: =Sites!E58*12 -> 0 | F58: =Sites!F58*12 -> 0 | G58: =Sites!G58*12 -> 0 | H58: =Sites!H58*12 -> 0 | I58: =Sites!I58*12 -> 0 | J58: =Sites!J58*12 -> 0 | L58: 240 | M58: =Sites!M58*12 -> 0 | N58: =Sites!N58*12 -> 0 | O58: =Sites!O58*12 -> 0 | P58: =Sites!P58*12 -> 3 | Q58: =Sites!Q58*12 -> 0 | R58: =Sites!R58*12 -> 1.5 | S58: =Sites!S58*12 -> 0 | T58: =Sites!T58*12 -> 0 | ... AV58: =Sites!AV58*12 -> 0
A59: =Sites!A59 -> GAU | B59: =Sites!B59 -> GMSA | C59: =Sites!C59 -> 2 | D59: =Sites!D59*12 -> 144 | E59: =Sites!E59*12 -> 0 | F59: =Sites!F59*12 -> 0 | G59: =Sites!G59*12 -> 0 | H59: =Sites!H59*12 -> 0 | I59: =Sites!I59*12 -> 0 | J59: =Sites!J59*12 -> 0 | L59: 240 | M59: =Sites!M59*12 -> 0 | N59: =Sites!N59*12 -> 0 | O59: =Sites!O59*12 -> 0 | P59: =Sites!P59*12 -> 2 | Q59: =Sites!Q59*12 -> 0 | R59: =Sites!R59*12 -> 1 | S59: =Sites!S59*12 -> 0 | T59: =Sites!T59*12 -> 0 | ... AV59: =Sites!AV59*12 -> 0
... A65: =Sites!A65 -> GAU | B65: =Sites!B65 -> Wispeco | C65: =Sites!C65 -> 3 | D65: =Sites!D65*12 -> 288 | E65: =Sites!E65*12 -> 0 | F65: =Sites!F65*12 -> 0 | G65: =Sites!G65*12 -> 0 | H65: =Sites!H65*12 -> 0 | I65: =Sites!I65*12 -> 0 | J65: =Sites!J65*12 -> 0 | L65: 240 | M65: =Sites!M65*12 -> 0 | N65: =Sites!N65*12 -> 0 | O65: =Sites!O65*12 -> 0 | P65: =Sites!P65*12 -> 3 | Q65: =Sites!Q65*12 -> 0 | R65: =Sites!R65*12 -> 1.5 | S65: =Sites!S65*12 -> 0 | T65: =Sites!T65*12 -> 0 | ... AV65: =Sites!AV65*12 -> 24
A66: =Sites!A66 -> GAU | B66: =Sites!B66 -> Reflaline | C66: =Sites!C66 -> 1 | D66: =Sites!D66*12 -> 72 | E66: =Sites!E66*12 -> 0 | F66: =Sites!F66*12 -> 0 | G66: =Sites!G66*12 -> 0 | H66: =Sites!H66*12 -> 0 | I66: =Sites!I66*12 -> 0 | J66: =Sites!J66*12 -> 0 | K66: =Sites!K66*12 -> 0 | ... AV66: =Sites!AV66*12 -> 0
...
